BEGIN:VCALENDAR
VERSION:2.0
PRODID:-//wp-events-plugin.com//7.2.3.1//EN
TZID:Europe/Rome
X-WR-TIMEZONE:Europe/Rome
BEGIN:VEVENT
UID:7637@radiobruno.it
DTSTART;TZID=Europe/Rome:20250830T160000
DTEND;TZID=Europe/Rome:20250830T230000
DTSTAMP:20250821T094803Z
URL:https://www.radiobruno.it/eventi/%e2%9a%bd-inside-the-dream-per-giampa
 olo-sabato-30-agosto-allo-stadio-comunale-di-cologne/
SUMMARY:⚽ Inside the Dream – per Giampaolo Sabato 30 agosto allo Stadio
  comunale di Cologne
DESCRIPTION: Inside the Dream – per Giampaolo\n Sabato 30 agosto 2025\n
  Stadio comunale di Cologne (BS)\, via della Croce 77B\n Dalle ore 16.15
 \n Ingresso: 5 € (inclusa partecipazione all’estrazione premi)\nTorna
  per la quarta edizione il triangolare di calcio femminile dedicato a Giam
 paolo\, una giornata di sport\, solidarietà e grandi emozioni!\nScenderan
 no in campo:\n Pro Palazzolo Women\n Brescia Calcio Femminile\n Milan W
 omen Primavera\nUn evento speciale\, patrocinato dal Comune di Cologne\, i
 l cui ricavato sarà devoluto all’associazione Un sorriso per Matteo ed
  Ettore\, a sostegno della rianimazione pediatrica dell’Ospedale Civile 
 di Brescia.\n Durante la giornata\, in palio tanti premi!\n Sport e solid
 arietà si incontrano per fare la differenza.16
ATTACH;FMTTYPE=image/jpeg:https://www.radiobruno.it/wp-content/uploads/202
 5/08/WhatsApp-Image-2025-08-08-at-18.06.17.jpeg
CATEGORIES:Brescia,Palcoscenico
END:VEVENT
BEGIN:VTIMEZONE
TZID:Europe/Rome
X-LIC-LOCATION:Europe/Rome
BEGIN:DAYLIGHT
DTSTART:20250330T030000
TZOFFSETFROM:+0100
TZOFFSETTO:+0200
TZNAME:CEST
END:DAYLIGHT
END:VTIMEZONE
END:VCALENDAR