BEGIN:VCALENDAR
VERSION:2.0
PRODID:-//wp-events-plugin.com//7.2.3.1//EN
TZID:Europe/Rome
X-WR-TIMEZONE:Europe/Rome
BEGIN:VEVENT
UID:7890@radiobruno.it
DTSTART;TZID=Europe/Rome:20260424T210000
DTEND;TZID=Europe/Rome:20260424T233000
DTSTAMP:20260420T110708Z
URL:https://www.radiobruno.it/eventi/%e2%9c%a8-paolo-ruffini-in-il-babysit
 ter-il-24-aprile-al-dis_play/
SUMMARY:✨ Paolo Ruffini in “Il Babysitter” il 24 aprile al Dis_Play
DESCRIPTION: Paolo Ruffini in “Il Babysitter” \n“Quando diventerai 
 piccolo capirai”\n 24 aprile\n Ore 21:00\n Dis_Play c/o Brixia Forum 
 – Via Caprera 5 (uscita Brescia Ovest)\nCosa succede se\, poco prima di 
 andare in scena\, Paolo Ruffini viene interrotto da un bambino smarrito?\n
 Nasce uno spettacolo imprevedibile\, divertente e pieno di magia! \n Tra
  gag esilaranti\, improvvisazione e momenti poetici\, Ruffini si trasforma
  in un improbabile babysitter\, coinvolgendo il pubblico in un viaggio tra
  il mondo dei “grandi” e quello dei “piccoli”.\n Il teatro divent
 a una macchina del tempo:\nun’occasione per tornare bambini\, riscoprire
  la fantasia e ricordare quanto sia importante non smettere mai di giocare
 .\n Biglietti disponibili su TicketOne\nUno spettacolo unico\, ironico e 
 sorprendente… perfetto per ridere e riflettere insieme!
ATTACH;FMTTYPE=image/jpeg:https://www.radiobruno.it/wp-content/uploads/202
 6/04/WhatsApp-Image-2026-04-18-at-17.24.13.jpeg
CATEGORIES:Appuntamenti,Brescia,Palcoscenico
END:VEVENT
BEGIN:VTIMEZONE
TZID:Europe/Rome
X-LIC-LOCATION:Europe/Rome
BEGIN:DAYLIGHT
DTSTART:20260329T030000
TZOFFSETFROM:+0100
TZOFFSETTO:+0200
TZNAME:CEST
END:DAYLIGHT
END:VTIMEZONE
END:VCALENDAR