BEGIN:VCALENDAR
VERSION:2.0
PRODID:-//wp-events-plugin.com//7.2.3.1//EN
TZID:Europe/Rome
X-WR-TIMEZONE:Europe/Rome
BEGIN:VEVENT
UID:7885@radiobruno.it
DTSTART;TZID=Europe/Rome;VALUE=DATE:20260425
DTEND;TZID=Europe/Rome;VALUE=DATE:20260426
DTSTAMP:20260417T102153Z
URL:https://www.radiobruno.it/eventi/25-aprile-musica-e-parole-al-campo-fo
 ssoli/
SUMMARY:25 aprile\, musica e parole al campo Fossoli
DESCRIPTION:Sabato 25 aprile appuntamento al Campo di Fossoli per assistere
  a un ricco programma nel segno di musica e parole per la pace e la libert
 à. Il programma della giornata\, organizzata dalla Fondazione Fossoli\, i
 n collaborazione con Comune e Radio Bruno\, è davvero ricchissimo. Numero
 si gli ospiti attesi: Flexus\, Chiara Francini\, Gang\, Matteo Caccia\, Fr
 ancamente e Cisco.\nSono passati 81 anni da quel 25 aprile 1945 eppure anc
 ora oggi quella data è impressa nelle nostre coscienze e nei nostri cuori
 . Una data da celebrare per ricordare un momento fondamentale nella storia
  del nostro Paese: la liberazione dal nazifascismo. E allora per rinnovare
  il valore della memoria e renderla viva\, condivisa e capace di parlare a
 l presente è stato realizzato un calendario diffuso\, costruito insieme a
 lle realtà associative\, culturali e istituzionali del territorio\, riuni
 te nel Comitato per la Memoria\, che si snoda dal 18 al 26 aprile\, quando
  la città sarà attraversata da appuntamenti capaci di intrecciare storia
 \, riflessione e partecipazione\, con un’attenzione particolare al coinv
 olgimento delle giovani generazioni. Un percorso che mette al centro sì l
 a memoria\, ma anche concetti chiave come quelli della pace\, della democr
 azia e della responsabilità collettiva.\n\n“Il 25 aprile - ha dichiarat
 o il sindaco di Carpi Riccardo Righi - non è una data che appartiene solo
  al passato\, ma una responsabilità che riguarda il nostro presente e\, s
 oprattutto\, il futuro delle nuove generazioni. Per questo abbiamo costrui
 to un programma diffuso\, fatto di linguaggi diversi\, occasioni di incont
 ro\, momenti culturali e partecipativi\, capace di parlare a tutte e tutti
 \, ma in particolare ai più giovani. Viviamo in un tempo complesso\, attr
 aversato da paure\, conflitti e incertezze. Abbiamo ancora più bisogno di
  dare nuova forza ai principi di libertà\, pace e democrazia\, rileggendo
 li nella contemporaneità. Abbiamo la responsabilità di coinvolgere i rag
 azzi affinché facciano loro questi valori e non li prendano per scontati.
  Il conseguimento della pace parte dalle nostre azioni quotidiane\, non da
 i trattati internazionali”.\n\nIl ricco calendario di eventi\, ha aggiun
 to l’assessore alla Cultura Giuliano Albarani\, “si articola su più d
 irettrici tematiche\, popolando tanti luoghi della memoria e spazi comunit
 ari della città\, con l’intento di intercettare le aspettative e promuo
 vere il coinvolgimento di fasce della popolazione diverse per età e inter
 essi. L’obiettivo è quello di prendere l’esperienza storica\, recuper
 arne i valori riconnettendoli con il tempo presente e accendendo coni di l
 uce su questioni indifferibili. La connotazione culturale delle celebrazio
 ni intende costruire significati e simboli attraverso cui\, auspicabilment
 e\, migliorare la realtà in cui viviamo”.\n\nLe iniziative prendono il 
 via sabato 18 aprile in sala Duomo\, alle 16.30\, con un omaggio alle donn
 e della Resistenza promosso da Anpi Carpi e dedicato a figure simbolo come
  Gina Borellini\, Gabriella Degli Esposti e Irma Marchiani\; domenica 19\,
  alle 9\, partirà il Giro d’Italia della Pace\, promosso dalla Fondazio
 ne PerugiAssisi per la Cultura della Pace\, con una marcia dal Campo di Fo
 ssoli al Parco della Resistenza\, mentre nel pomeriggio la Fondazione Foss
 oli\, al Museo Monumento al Deportato\, ospiterà il reading-concerto Donn
 e appassionate\, con letture a cura di Giovanni Tesio\, voce di Joana Gjon
 i e al pianoforte Maria Messina\, per la rassegna Al Museo con i classici.
 \n\nLunedì 20 aprile dalle 8.45\, si svolgeranno le Camminate della Memor
 ia a cura di Anpi Carpi nei luoghi del centro storico e tra Fossoli e San 
 Marino\, per riscoprire attraverso i cippi e le lapidi le storie e i nomi 
 di chi ha contribuito alla Liberazione.\nParticolarmente significativo il 
 programma del 22 aprile\, anniversario della Liberazione di Carpi\, con in
 iziative rivolte alle scuole e alla cittadinanza a cura della Biblioteca L
 oria\, tra cui la lettura del testo inedito Camminare tra i pioppi della s
 crittrice Gaia Manzini al Museo Monumento al Deportato (riservato agli Ist
 ituti Superiori di Carpi) e\, alle 18.30 alla Libreria La Fenice\, la pres
 entazione del libro La soffitta\, con l’autrice Alessandra Mantovani in 
 dialogo con la direttrice dell’Istituto Storico di Modena Metella Montan
 ari.\n\nIl 23 aprile doppio appuntamento all’Auditorium Loria: alle 18 s
 i terrà la presentazione del progetto curato dall’Istituto Storico di M
 odena Spazi Ribelli. L’Atlante delle formazioni partigiane modenesi\, co
 n Chiara Lusuardi e Mirco Carrattieri\, mentre alle 21\, in occasione dell
 a Giornata mondiale del libro e delle rose\, ci sarà la proiezione del do
 cumentario Le biblioteche e la città. Conoscere per essere liberi di Fran
 cesca Zerbetto e Dario Zanasi.\n\nVenerdì 24\, vigilia del giorno della L
 iberazione\, due appuntamenti dedicati ai giovani e giovanissimi. La Bibli
 oteca\, in cortile di Levante\, in collaborazione con LudoLabo e Istituto 
 storico di Modena\, organizza il gioco di ruolo Radio Victory\, per adulti
  e ragazzi a partire dai 12 anni (iscrizioni al numero 059 649950)\, mentr
 e al Mattatoyo ci sarà la prima edizione dello Spritz Partigiano\, una se
 rata con musica e dj set organizzato con Anpi Carpi\, Gruppo Poison del Ci
 rcolo Giliberti e Arci Modena. Alle 18 anche la presentazione in Auditoriu
 m Loria del libro Antigone in Polesine\, con gli autori Roberto Alessandri
 ni e Roberto Piumini.\n\nSabato 25 aprile\, la Festa si aprirà al Campo d
 i Fossoli con la prima parte del programma Aurora di un mondo migliore\, p
 romosso dalla Fondazione Fossoli\, che accompagnerà l’intera giornata. 
 Alle 8 il Campo si animerà con un momento suggestivo di risveglio tra par
 ole e musica\, con le letture di Simone Maretti e l’accompagnamento del 
 Corpo Bandistico Città di Carpi insieme alla Corale Savani.\n\nDalle 10 l
 a tradizionale cerimonia istituzionale che avrà inizio dal Cimitero Urban
 o e proseguirà fino in piazza Martiri\, in un corteo che per il secondo a
 nno consecutivo vedrà la presenza della bandiera della Pace lunga 100 met
 ri\, portata in staffetta. In piazza\, insieme al presidente dell’Anpi C
 arpi Lucio Ferrari\, con Sabina Sacchetti e il sindaco Riccardo Righi\, in
 terverranno anche alcuni rappresentanti degli studenti degli istituti supe
 riori di Carpi. Previsto anche l’accompagnamento musicale del coro delle
  scuole Verdi e dell’orchestra delle scuole media Alberto Pio\, insieme 
 al Corpo Bandistico Città di Carpi. La mattinata si chiude\, alle 12.30\,
  con il tradizionale Pranzo della Liberazione organizzato da Anpi al circo
 lo Guerzoni.\n\n[gallery size="large" td_select_gallery_slide="slide" link
 ="file" ids="248031\,248029\,248028\,248027\,248032\,248030\,248033"]\n\nI
 l pomeriggio\, dalle 15 alle 19\, al Campo di Fossoli ci sarà Aurora di u
 n mondo migliore. Parole e musiche per la Pace e la Libertà\, il grande c
 oncerto aperto alla cittadinanza e giunto alla sua seconda edizione\, real
 izzato dalla Fondazione in collaborazione con Radio Bruno. Sul palco si al
 terneranno voci e artisti diversi per linguaggi e sensibilità\, in un rac
 conto corale capace di unire memoria e contemporaneità: “Flexus\, Chiar
 a Francini\, Gang\, Matteo Caccia\, Francamente e Cisco porteranno contrib
 uti tra musica e narrazione\, accompagnati dalla conduzione di Pierluigi S
 enatore”\, annuncia Leonello Viale di Radio Bruno.\n\n“Il campo - spie
 ga la presidente della Fondazione Fossoli\, Manuela Ghizzoni - a differenz
 a dello scorso anno sarà aperto in tutta la sua estensione\, ovvero sei e
 ttari. La nostra idea è che il campo è stato sì un luogo di sofferenza 
 ma anche di speranza e quindi è giusto per noi trovarci insieme per cogli
 ere le sollecitazioni che ci verranno dal mondo della musica e delle parol
 e e festeggiare questa bella occasione. Ricordo infatti che quest’anno l
 a Liberazione si celebra in concomitanza con l’ottantesimo anniversario 
 di due eventi che sostanziano la relativamente breve storia democratica de
 l Paese: il referendum del 2 giugno 1946\, che sancì la nuova forma repub
 blicana\, e il voto alle donne\, che fu esercitato per la prima volta nel 
 turno primaverile delle elezioni amministrative. L’opposizione al nazi-f
 ascismo\, il rispetto della dignità umana e dei diritti inviolabili delle
  persone\, il riconoscimento della solidarietà e dell’uguaglianza quali
  principi irrinunciabili… Valori fondanti dell’Italia repubblicana e b
 ase comune dalla quale elaborare qualsiasi successiva differenziazione in 
 ambito politico e ideologico. Un afflato che in questo presente – in cui
  conflitti e prove muscolari di singole potenze infiammano l’intero mond
 o\, sviliscono il diritto internazionale\, e in cui la pace viene ridicoli
 zzata – quell'ispirazione andrebbe riscoperta ed esercitata. Perché è 
 proprio in quel clima di fiducia e valori condivisi che l’Italia\, sebbe
 ne completamente da ricostruire moralmente e materialmente dopo il Ventenn
 io fascista e le distruzioni della guerra\, avrebbe potuto\, come ci ha re
 centemente ricordato lo storico Bruno Maida\, coltivare la speranza necess
 aria per poter diventare\, come Paese\, quel che avrebbe voluto essere”.
 \n\nDomenica 26 aprile le iniziative si concluderanno poi con la Pedalata 
 della Staffetta con partenza alle 15 da piazza Martiri\, un percorso nei l
 uoghi della memoria cittadina a cura di Anpi Carpi\, e alle 18 con l’eve
 nto Le Madri Costituenti\, dedicato alle figure femminili che hanno contri
 buito alla nascita della Repubblica\, raccontate da Cecilia Anceschi\, a c
 ura di Cif-Centro Italiano Femminile\, in collaborazione con Udi-Unione Do
 nne In Italia.\n\nJ.B.
ATTACH;FMTTYPE=image/jpeg:https://www.radiobruno.it/wp-content/uploads/202
 6/04/08_04_26_aurora_mondo_migliore_cartolinaweb.jpg
CATEGORIES:Eventi Radio Bruno,Modena,Palcoscenico
END:VEVENT
BEGIN:VTIMEZONE
TZID:Europe/Rome
X-LIC-LOCATION:Europe/Rome
BEGIN:DAYLIGHT
DTSTART:20260329T030000
TZOFFSETFROM:+0100
TZOFFSETTO:+0200
TZNAME:CEST
END:DAYLIGHT
END:VTIMEZONE
END:VCALENDAR