BEGIN:VCALENDAR
VERSION:2.0
PRODID:-//wp-events-plugin.com//7.2.3.1//EN
TZID:Europe/Rome
X-WR-TIMEZONE:Europe/Rome
BEGIN:VEVENT
UID:7683@radiobruno.it
DTSTART;TZID=Europe/Rome:20250921T080000
DTEND;TZID=Europe/Rome:20250921T130000
DTSTAMP:20250915T103353Z
URL:https://www.radiobruno.it/eventi/6-trofeo-free-bike-castegnato/
SUMMARY:6° Trofeo Free Bike Castegnato!
DESCRIPTION:Domenica 21 settembre torna il 6° Trofeo Free Bike Castegnato\
 , la gara di mountain bike con partenza dal Parco Gemelli di Castegnato (B
 S).
ATTACH;FMTTYPE=image/jpeg:https://www.radiobruno.it/wp-content/uploads/202
 5/09/WhatsApp-Image-2025-09-14-at-21.15.06.jpeg
CATEGORIES:Appuntamenti,Brescia,Palcoscenico
END:VEVENT
BEGIN:VTIMEZONE
TZID:Europe/Rome
X-LIC-LOCATION:Europe/Rome
BEGIN:DAYLIGHT
DTSTART:20250330T030000
TZOFFSETFROM:+0100
TZOFFSETTO:+0200
TZNAME:CEST
END:DAYLIGHT
END:VTIMEZONE
END:VCALENDAR