BEGIN:VCALENDAR
VERSION:2.0
PRODID:-//wp-events-plugin.com//7.2.3.1//EN
TZID:Europe/Rome
X-WR-TIMEZONE:Europe/Rome
BEGIN:VEVENT
UID:7582@radiobruno.it
DTSTART;TZID=Europe/Rome:20250802T210000
DTEND;TZID=Europe/Rome:20250813T233000
DTSTAMP:20250617T144713Z
URL:https://www.radiobruno.it/eventi/arena-della-versilia-2025-vibes-summe
 r-festival/
SUMMARY:Arena della Versilia 2025 - Vibes Summer Festival
DESCRIPTION:Arena della Versilia 2025\nVIBES SUMMER FESTIVAL PRESSO ARENA D
 ELLA VERSILIA\nAL CINQUALE DI MONTIGNOSO MASSA\nZONA AEROPORTO\n\nIL 2 AGO
 STO SFERA EBBASTA\,6 AGOSTO TEENAGE DREAM\, 7 AGOSTO FRANCO 126\,PSICOLOGI
  CENTOMILACARIE\,L’8 DI AGOSTO KID JUGI-TONY BOY NERISSIMA SERPE PAPA V 
 (SI LEGGE PAPA VI) E FRITU\, 9 AGOSTO ANNA \, ARTIE 5IVE E DISS GACHA.10 A
 GOSTO LAZZA\, GUE\,ELE A SILENT BOB &amp\; SICK BUDD\,13 AGOSTO TANANAI.\n
 &nbsp\;
ATTACH;FMTTYPE=image/jpeg:https://www.radiobruno.it/wp-content/uploads/202
 5/06/vibes.jpg
CATEGORIES:Palcoscenico,Toscana
END:VEVENT
BEGIN:VTIMEZONE
TZID:Europe/Rome
X-LIC-LOCATION:Europe/Rome
BEGIN:DAYLIGHT
DTSTART:20250330T030000
TZOFFSETFROM:+0100
TZOFFSETTO:+0200
TZNAME:CEST
END:DAYLIGHT
END:VTIMEZONE
END:VCALENDAR