BEGIN:VCALENDAR
VERSION:2.0
PRODID:-//wp-events-plugin.com//7.2.3.1//EN
TZID:Europe/Rome
X-WR-TIMEZONE:Europe/Rome
BEGIN:VEVENT
UID:7896@radiobruno.it
DTSTART;TZID=Europe/Rome;VALUE=DATE:20260423
DTEND;TZID=Europe/Rome;VALUE=DATE:20260504
DTSTAMP:20260424T100100Z
URL:https://www.radiobruno.it/eventi/artevento-festival-internazionale-del
 laquilone/
SUMMARY:ARTEVENTO – Festival Internazionale dell’Aquilone
DESCRIPTION:Dopo la preview del weekend di Pasqua\, è ora tutto pronto per
  l’inizio ufficiale di ARTEVENTO – Festival Internazionale dell’Aqui
 lone\, in programma dal 23 aprile al 3 maggio sulla spiaggia di Pinarella 
 di Cervia. La 46° edizione della manifestazione si preannuncia ancora pi
 ù ricca e articolata.\n\nIl calendario degli eventi di quest’anno abbra
 ccia i ponti del 25 aprile e del 1° maggio\, per un totale di 11 giorni c
 onsecutivi\, durante i quali la spiaggia di Pinarella di Cervia ospiterà 
 oltre 200 Maestri del Vento da 5 Continenti. Insieme alla Colombia – sce
 lta come Paese d’Onore e rappresentata da Alejandro Uribe del collettivo
  artistico BIMANA\, per la prima volta in Europa e ad ARTEVENTO – giunge
 ranno alle porte meridionali del Parco del Delta del Po anche: Argentina\,
  Australia\, Austria\, Belgio\, Brasile\, Canada\, Cina\, Corea\, Danimarc
 a\, Finlandia\, Francia\, Germania\, Giappone\, Grecia\, India\, Indonesia
 \, Inghilterra\, Irlanda\, Italia\, Malesia\, Messico\, Nuova Zelanda\, No
 rvegia\, Paesi Bassi\, Palestina\, Pakistan\, Polonia\, Scozia\, Singapore
 \, Slovacchia\, Slovenia\, Spagna\, Sri Lanka\, Svezia\, Svizzera\, Taiwan
 \, Tasmania\, Thailandia\, Turchia\, Ucraina\, USA e Vietnam.\n\nL’edizi
 one 2026 del Festival Internazionale dell’Aquilone più longevo del mond
 o\, che ogni anno richiama a Cervia oltre 800.000 visitatori di ogni età 
 e abilità\, presenta un palinsesto di appuntamenti ampio e variegato: la 
 mostra tematica “The Hague Air Gallery – Vento Dipinto” al Magazzino
  del Sale\, la Cerimonia delle Bandiere\, laboratori per bambini e adulti\
 , voli diurni giornalieri e 2 voli notturni\, tra cui lo spettacolo multid
 isciplinare “La Notte dei Miracoli”\, “Giardini del Vento”\, 31 sp
 ettacoli di circo contemporaneo\, 4 annulli celebrativi realizzati da Fila
 telia Poste Italiane\, puppetry\, teatro di figura\, il Premio Speciale pe
 r Meriti di Volo\, l’arrivo della Lampada della Pace di Assisi\, una gio
 rnata di studio con il Ministero Italiano della Cultura\, musica dal vivo\
 , danza\, letture\, presentazioni di libri\, visioni cinematografiche a en
 ergia solare\, Kite Aerial Photography\, tributi ai pionieri del volo\, in
 contri e tavole rotonde sui temi dell’ambiente\, della pace\, dell’inc
 lusione e dell’accessibilità.\n\n[caption id="attachment_248333" align=
 "aligncenter" width="696"] © F. Janich[/caption]\n\nDurante la conferenza
  stampa di presentazione del programma ufficiale della manifestazione\, l
 ’Assessora a Turismo\, Commercio\, Sport della Regione Emilia-Romagna Ro
 berta Frisoni ha dichiarato: “Iniziative come ‘Artevento’ a Cervia r
 appresentano in modo esemplare la capacità della nostra Riviera di trasfo
 rmarsi in un grande palcoscenico a cielo aperto\, dove arte\, natura e par
 tecipazione si intrecciano dando vita a esperienze uniche. Gli aquiloni ch
 e riempiono il cielo diventano simboli di creatività e libertà\, in grad
 o di attrarre visitatori da tutto il mondo e di valorizzare il litorale at
 traverso un evento diffuso e riconoscibile\, ormai consolidato nella nostr
 a tradizione. Un festival così longevo e internazionale\, che quest’ann
 o celebra la sua 46^ edizione con oltre 200 artiste e artisti provenienti 
 da più di 50 Paesi\, conferma quanto l’Emilia-Romagna sia una destinazi
 one dinamica e attrattiva\, in grado di ospitare eventi di grande qualità
  culturale e rilevanza turistica. I temi scelti per questa edizione – da
 lla celebrazione di San Francesco al dialogo con il Giappone\, fino al leg
 ame con la letteratura e il circo contemporaneo – restituiscono una visi
 one ampia e inclusiva\, che unisce tradizione e innovazione\, e richiamano
 \, anche attraverso i linguaggi dell’arte\, i valori del dialogo e della
  pace. Come Regione continuiamo a sostenere appuntamenti che\, come ‘Art
 evento’\, rafforzano l’identità dei territori e contribuiscono allo s
 viluppo di un turismo esperienziale\, sostenibile e internazionale.”\n\n
 Sotto la direzione artistica di Caterina Capelli\, Artevento ha incrementa
 to le collaborazioni sul territorio promuovendo il Festival Internazionale
  dell’Aquilone come una Eccellenza della Regione Emilia-Romagna e ottimi
 zzandone le potenzialità promozionali e turistiche attraverso un dialogo 
 creativo con comuni e amministrazioni. Tra le numerose collaborazioni\, AR
 TEVENTO è lieta di annunciare l’avvio di un dialogo con il Comune di Fo
 rlì. In conferenza stampa\, l’Art Director Caterina Capelli ha affermat
 o: “Il dialogo con l’amministrazione forlivese intende fare dell’aqu
 ilone non solo il paradigma di percorsi espositivi\, didattici e formativi
 \, ma anche il simbolo di uno slancio alla ricoperta di spazi di rara bell
 ezza che tornano ad essere ammirabili dalla comunità sotto una diversa pr
 ospettiva\, nel contesto del progetto ministeriale del Centro di Formazion
 e sull’Arte del Volo in un rimando fra passato e futuro\, eccellenze ita
 liane ed esotiche tradizioni.”\n\nQuest’anno\, Capelli mira alla reali
 zzazione di un’edizione indimenticabile\, ideando l’intero programma a
 ttorno alla parola chiave Wonder\, giocando con il suo doppio significato 
 di provare meraviglia e porsi delle domande. Da questa visione è nato il 
 processo di selezione degli ospiti e dei contenuti del festival per festeg
 giare l’arte\, l’autenticità\, le tradizioni dal mondo\, la contamina
 zione tra linguaggi performativi diversi\, la ricerca e i capisaldi della 
 nostra cultura.\n\nTutte le iniziative si ispirano al claim “Fratello ve
 nto”\, fil rouge che unisce i 4 grandi temi dell’edizione: gli 800 ann
 i dalla morte di San Francesco\; i 100 anni dal Premio Nobel per la Letter
 atura conferito nel 1926 alla poetessa sarda Grazia Deledda\; i 160 anni d
 i relazioni fra Italia e Giappone e il 40° anniversario del gemellaggio t
 ra la Regione Emilia-Romagna e la Prefettura di Ibaraki\, in Giappone\; la
  liaison tra la Capitale dell’Aquilone e il Circo Contemporaneo grazie a
 lla collaborazione di ATER Fondazione.\n\n[caption id="attachment_248334" 
 align="aligncenter" width="696"] © Wolfgang Bieck[/caption]\nIL PROGRAMMA
  DEL FESTIVAL: GLI HIGHLIGHTS\nLe prime due giornate\, quelle di giovedì 
 23 e di venerdì 24 aprile\, introducono il pubblico allo storico format d
 el Festival con voli liberi sulla spiaggia a partire dalle 10.00 del matti
 no\, spettacoli di volo acrobatico a ritmo di musica come lo Sport Kite Sh
 ow e la rassegna “L’altra metà del cielo”\, dedicata alle artiste d
 onne che quest’anno prendono parte alla manifestazione. Un avvio che acc
 ompagna progressivamente il pubblico verso il primo grande weekend di ARTE
 VENTO.\n\nSabato 25 aprile\, primo ponte festivo e giornata che include il
  primo volo notturno dell’edizione\, rappresenta\, infatti\, uno dei mom
 enti centrali di quest’anno\, dedicata alla celebrazione del primo tema 
 dell’edizione\, ovvero la ricorrenza degli 800 anni dalla morte di San F
 rancesco\, in collaborazione con Fondazione PerugiAssisi. “Fratello vent
 o” diviene il titolo del volo collettivo in programma nell’area centra
 le\, dedicato alla presentazione delle opere ispirate al tema di San Franc
 esco e al Cantico delle Creature\, per celebrare insieme la meraviglia del
  creato e una madre terra cui rivolgersi con rispetto e devozione.\n\nTra 
 gli appuntamenti più simbolici e attesi\, la Parata delle Creature – Ki
 te Puppet Streat Theater Show\, presentata per la prima volta in Europa in
  collaborazione con l’equipe colombiana BIMANA\, Special Guest della 46
 ° edizione e nuovo partner di ARTEVENTO nella promozione di un’original
 e fusione tra arti visive e performative\, diretta dal designer Alejandro 
 Uribe\, rinomato maestro degli effetti speciali. La colorata performance i
 mmersiva coinvolgerà il pubblico nelle suggestive movenze di grandi puppe
 t tridimensionali nati dall’originale intuizione di fondere il mondo del
 le 3D air creations e quello del teatro di figura. La Parata vedrà ben 4 
 repliche: 26 aprile\, 1\, 2 e 3 maggio.\n\nA seguire\, è previsto un altr
 o momento storico: la consegna del Premio Speciale per Meriti di Volo 2026
  a Flavio Lotti\, Presidente della Fondazione PerugiAssisi per la Cultura 
 della Pace e organizzatore dal 1995 della Marcia per la Pace. Dopo la prem
 iazione\, Lotti presenterà in anteprima il suo libro “La PerugiAssisi. 
 Quando la pace si fa storia“\, seguito da un firmacopie.\n\nL’intera g
 iornata intreccia arte\, spettacolo\, spiritualità e impegno civile\, cul
 minando alle ore 21.00 con il volo notturno “Bussa al cielo e ascolta il
  suono”\, in memoria di Peter Lynn\, una delle figure più influenti nel
 la storia del volo di questo secolo\, scomparso l’11 Aprile e al quale A
 RTEVENTO dedica la sua 46esima edizione. Pionieristico inventore del soft 
 kite tridimensionale negli anni ‘80\, “padre del moderno power kiting
 ” del kite surf e dell’aquilonismo da trazione moderno\, detentore di 
 numerosi Guinness World Record e affezionato estimatore del Festival Inter
 nazionale dell’Aquilone di Cervia. Il visionario ingegnere neozelandese 
 verrà celebrato con un display delle sue iconiche piovre lunghe fino a 45
  metri\, proiezione di documenti inediti e un concerto dal vivo della cant
 ante soul e R’n’b Ariane Diakite.\n\nInoltre durante la stessa serata\
 , ARTEVENTO completa la sua dedica a San Francesco con l’arrivo della La
 mpada della Pace di Assisi\, simbolo del “sogno universale della fratern
 ità e dell’amicizia sociale” e trasformando il Festival in una tappa 
 del Giro d’Italia per la Pace.\n\nPer tutta la giornata\, dalle 10.30 al
 le 18.00\, presso la reception di ARTEVENTO\, il pubblico potrà procurars
 i il 1° annullo postale celebrativo dell’edizione realizzato da Filatel
 ia Poste Italiane\, dedicato proprio a San Francesco.\n\n[caption id="atta
 chment_248335" align="aligncenter" width="696"] Foto Szymon Ka 04 ARTEVENT
 O-2023[/caption]\n\nIl Festival prosegue domenica 26 aprile\, altra giorna
 ta chiave dell’edizione poiché interamente dedicata ai 160 anni di rela
 zioni fra Italia e Giappone\, al 40° anniversario del gemellaggio tra la 
 Regione Emilia-Romagna e la Prefettura di Ibaraki e al progetto sviluppato
  dall’ICPI del Ministero Italiano della Cultura su ARTEVENTO\, riconosci
 uto dal 2023 come uno spazio di interesse per le etnografie. Nell’ambito
  del progetto ministeriale sui “testimoni viventi”\, per la prima volt
 a ARTEVENTO diventa “campo fisico” di studio per gli specializzandi de
 l Corso di Demoetnoantropologia dell’Università di Perugia che\, per l
 ’occasione\, faranno visita al festival.\n\nOltre che attraverso la Ceri
 monia delle Bandiere\, in programma alle ore 11.00 nell’Area delle Esibi
 zioni\, e il secondo annullo di Filatelia Poste Italiane\, il tema sarà a
 ffrontato con uno speciale approfondimento dedicato a Malcolm Goodman\, an
 che conosciuto come The Kiteman (UK). Ospite del festival dalle sue prime 
 edizioni\, Goodman viene omaggiato per aver dedicato gran parte della vita
  alla cura della prestigiosa collezione oggi in mostra al Kunsthal Museum 
 di Rotterdam.\n\nNell’ambito dei gemellaggi promossi da ARTEVENTO\, il p
 rogramma della 46° edizione è storicizzato anche dalla prestigiosa parte
 cipazione del team in rappresentanza del Layang-Layang Museum di Jakarta\,
  primo museo degli aquiloni dell’Indonesia\, fondato nel 2003 da Endang 
 Ernawati\, seconda Special Guest 2026. Esposte per tutta la durata del fes
 tival nell’ambito dell’allestimento Layang-Layang Kite Museum Display 
 alla tenda Museo dell’Aquilone on the Beach (Fiera del Vento ingresso No
 rd) le opere della Signora degli Aquiloni decolleranno Domenica 26 aprile\
 , alle ore 16.30\, nell’ambito di un omaggio alla tradizione di Jakarta 
 che include anche gli interventi di teatro danza del performer Radit Puspo
 yo.\n\nAltro highlight della giornata l’omaggio al Maestro Mikio Toki\, 
 principale interprete dell’arte della costruzione dell’aquilone edo\, 
 modello tradizionale della città di Tokyo. In merito\, si terrà l’inco
 ntro sul progetto ministeriale dedicato ad ARTEVENTO con il Professor Dani
 ele Parbuono dottore di ricerca in etnologia e antropologia dell’Univers
 ità di Perugia\, la Dott.ssa Cinzia Marchesini\, funzionaria dell’Istit
 uto Centrale per il Patrimonio Immateriale e la Dott.ssa Patrizia Cirino\,
  funzionaria Direzione Musei Emilia-Romagna. Seguirà la presentazione del
 la delegazione giapponese e il volo delle opere dei Maestri Makoto Ohye\, 
 Yoh Yasuda e Akio Takeda\, nell’area centrale.\n\nInoltre\, quest’anno
 \, proprio per omaggiare i Paese del Sol Levante\, i laboratori didattici 
 per bambini propongono la rivisitazione dell’aquilone Jakko-dako\, simbo
 lo della tradizione giapponese.\n\nI festeggiamenti sulla spiaggia si svil
 uppano senza interruzioni dal 27 al 30 aprile\, mantenendo vivo il program
 ma con voli continuativi\, incontri e laboratori. In particolare\, dal 27 
 al 29 aprile\, presso la Fiera del Vento Nord si svolge “Fratello Vento
 ” sewing kite workshop\, corso di costruzione per adulti con macchina da
  cucire a cura di Alicja Szalska in collaborazione con Righi per Cucire. I
 l corso si tiene esclusivamente su prenotazione.\n\nInfo su: https://artev
 ento.com/laboratori/.\n\nGiovedì 30 aprile è una giornata speciale\, poi
 ché tutti gli aquilonisti partecipanti al Festival faranno visita al Maga
 zzino del Sale di Cervia\, dove è allestita la mostra inedita “The Hagu
 e Air Gallery – Vento Dipinto”\, inaugurata il 4 aprile e che presenta
 \, per la prima volta in Italia\, una collezione di aquiloni storici di mo
 dello giapponese edo dipinti da artisti olandesi negli Anni ’80. L’esp
 osizione\, che si avvale del Patrocinio dell’Ambasciata e del Consolato 
 Generale dei Paesi Bassi\, sarà visitabile gratuitamente fino al 3 maggio
 .\n\nPer il tema del centenario del Premio Nobel per la Letteratura confer
 ito nel 1926 a Grazia Deledda\, la giornata di riferimento è venerdì 1°
  maggio\, secondo ponte festivo che introduce il pubblico all’ultimo wee
 kend della manifestazione. L’omaggio alla “poetessa del vento”\, pri
 ma e unica donna italiana ad aver vinto il Premio Nobel per la letteratura
 \, s’intreccia con gli 80 anni dal diritto di voto alle donne in Italia.
  Deledda verrà commemorata dall’annullo postale di Filatelia Poste Ital
 iane – 3° annullo dell’edizione\, distribuito dalle 10.30 alle 18.30 
 presso la reception di ARTEVENTO – e dall’incontro\, alle ore 11.30\, 
 con Grazia Madesani Deledda\, nipote della scrittrice che ne celebrerà il
  ricordo attraverso delle letture a cura dell’Associazione Grazia Deledd
 a una Nobel a Cervia.\n\nSabato 2 maggio è il giorno riservato al connubi
 o tra gli aquiloni di ARTEVENTO e il circo contemporaneo. Grande novità d
 i quest’anno è la Flying Circus Arena\, area performativa dedicata al c
 irco contemporaneo\, alla magia e al teatro fisico. Con una programmazione
  curata da SIC – Stabile di Innovazione Circense e ARTEVENTO\, l’Arena
  consolida\, per il secondo anno consecutivo\, la collaborazione tra ATER 
 Fondazione e il Festival Internazionale dell’Aquilone di Cervia. Colloca
 ta nel cuore del Villaggio del Festival sulla spiaggia\, ospiterà una ras
 segna articolata in due weekend di spettacoli – dal 24 al 26 aprile e da
 l 30 aprile al 3 maggio – con oltre 30 repliche di 5 titoli\, tra cui 2 
 anteprime assolute firmate da Circo El Grito • Costantini.\n\nNel pomeri
 ggio\, il Festival celebra i 140 anni di Gambettola Carnevale della Romagn
 a attraverso l’incontro con l’artista Anton Roca\, direttore della Scu
 ola della Cartapesta e anima della residenza per artisti del festival. Not
 o in ambito europeo ed internazionale con mostre in Spagna\, Italia\, Ungh
 eria\, Francia e Canada\, Roca accoglie l’invito di ARTEVENTO di svilupp
 are un percorso residenziale per i suoi artisti e li guida nella creazione
  di un’opera event specific per l’attesa e iconica Notte dei Miracoli\
 , in programma alle ore 21.00. Il secondo volo notturno della 46° edizion
 e sarà\, ancora una volta\, dedicato a Peter Lynn con la Parata delle Cre
 ature sotto le stelle\, il ritorno sul palco di ARTEVENTO della cantante A
 riane Diakite\, protagonista della serata con la sua straordinaria voce\, 
 l’intervento dell’artista Doghead in rappresentanza di Mutoid Waste Co
 mpany\, e le immagini trasmesse da Cinema du Desert\, cinema mobile ad ene
 rgia solare\, in collaborazione con l’Associazione Bambini nel Deserto E
 TS.\n\nIl gran finale sarà domenica 3 maggio con una programmazione che r
 accoglie e restituisce al pubblico tutta l’energia e la varietà che han
 no caratterizzato questa edizione speciale. Tra gli appuntamenti da non pe
 rdere\, alle ore 10.30 nell’Area delle Esibizioni la premiazione della C
 ervia’s Cup – Campionato Italiano di Volo Acrobatico a cura di STACK I
 talia\, momento conclusivo della competizione con protagonisti i migliori 
 piloti internazionali.\n\nNel pomeriggio\, tra i vari momenti conclusivi\,
  i riflettori saranno puntati su una delle attrazioni imperdibili di quest
 ’anno: la suggestiva tradizione del volo della Thailandia torna eccezion
 almente ad ARTEVENTO grazie alla presenza dell’originale Association of 
 Thai and International Kite che\, nell’area centrale\, porterà l’esib
 izione della suggestiva tradizione del “corteggiamento fra aquiloni” c
 hula &amp\; pakpao.\n\nIl programma completo di ARTEVENTO CERVIA è consul
 tabile sul sito della manifestazione: https://artevento.com/
ATTACH;FMTTYPE=image/jpeg:https://www.radiobruno.it/wp-content/uploads/202
 6/04/Festival-Internazionale-dellAquilone-di-Cervia-©-Florian-Janich-4202
 5.jpeg
CATEGORIES:Eventi Radio Bruno,Palcoscenico,Ravenna
END:VEVENT
BEGIN:VTIMEZONE
TZID:Europe/Rome
X-LIC-LOCATION:Europe/Rome
BEGIN:DAYLIGHT
DTSTART:20260329T030000
TZOFFSETFROM:+0100
TZOFFSETTO:+0200
TZNAME:CEST
END:DAYLIGHT
END:VTIMEZONE
END:VCALENDAR