BEGIN:VCALENDAR
VERSION:2.0
PRODID:-//wp-events-plugin.com//7.2.3.1//EN
TZID:Europe/Rome
X-WR-TIMEZONE:Europe/Rome
BEGIN:VEVENT
UID:7895@radiobruno.it
DTSTART;TZID=Europe/Rome;VALUE=DATE:20260517
DTEND;TZID=Europe/Rome;VALUE=DATE:20260518
DTSTAMP:20260421T153530Z
URL:https://www.radiobruno.it/eventi/borgo-musica-2026-a-certaldo-con-radi
 o-bruno/
SUMMARY:Borgo & Musica 2026 a Certaldo con Radio Bruno
DESCRIPTION:RADIO BRUNO RADIO UFFICIALE\nBorgo & Musica 2025\n\n\n\nIl 17 m
 aggio 2026 il borgo medievale di Certaldo Alto tornerà a riempirsi di mus
 ica\, arte e performance a cielo aperto.\nDalle 12:00 in poi\, il borgo si
  animerà con spettacoli itineranti\, concerti\, street artist e tanta mag
 ia tra le vie del paese! \n Un evento a cura dell’associazione Ritmi e R
 adici\, realizzato insieme a tante realtà del territorio ❤️\n\n Dove?
  Certaldo Alto\n️ Quando? Domenica 17 maggio 2026\n⏰ Orario? Dalle 12:
 00\n Ingresso libero!\n\n
ATTACH;FMTTYPE=image/jpeg:https://www.radiobruno.it/wp-content/uploads/202
 6/04/certaldo.jpg
CATEGORIES:Eventi Radio Bruno,Palcoscenico,Toscana
END:VEVENT
BEGIN:VTIMEZONE
TZID:Europe/Rome
X-LIC-LOCATION:Europe/Rome
BEGIN:DAYLIGHT
DTSTART:20260329T030000
TZOFFSETFROM:+0100
TZOFFSETTO:+0200
TZNAME:CEST
END:DAYLIGHT
END:VTIMEZONE
END:VCALENDAR