BEGIN:VCALENDAR
VERSION:2.0
PRODID:-//wp-events-plugin.com//7.2.3.1//EN
TZID:Europe/Rome
X-WR-TIMEZONE:Europe/Rome
BEGIN:VEVENT
UID:7894@radiobruno.it
DTSTART;TZID=Europe/Rome:20260421T100000
DTEND;TZID=Europe/Rome:20260426T230000
DTSTAMP:20260420T131752Z
URL:https://www.radiobruno.it/eventi/canale-a-colori-luce-acqua-e-materia/
SUMMARY:Canale A Colori - Luce\, Acqua e Materia
DESCRIPTION:CANALE A COLORI\nLUCE ACQUA MATERIA Milano Design Week 2026\n21
 -26 aprile 2026 | Alzaia Naviglio Grande 66\, Milano\nCon questo titolo ri
 nasce Canale a Colori nella sua 5° edizione\, un progetto di Arti Minime 
 diventato nel tempo un punto di riferimento con proposte culturali e di an
 imazioni nel quartiere dei Navigli.\nLe Onde di luce che si propagano nell
 ’acqua\, nell’aria\, come tanti pensieri che mescolandosi si contamina
 no dando vita a qualcosa di unico. Cicli e flussi che generano nuova luce\
 , in un canale di idee e di suggestioni che colorano e illuminano le menti
  creando connessioni e incontri per sfidare ciascuno a riflettere.\nLUCE A
 CQUA MATERIA | MDW26\nPer la Milano Design Week 2026 Canale A Colori sarà
  Luce\, Acqua e Materia\, un palinsesto diffuso di eventi\, installazioni\
 , esposizioni e laboratori tematici e mostra. Al centro di questa esperien
 za il Palazzo Galloni sul Naviglio Grande luogo iconico di Milano e meta n
 aturale di importanti flussi di passaggio durante le giornate del Salone d
 el Mobile. Il Palazzo Galloni\, edificio del XVII sec.\, oggi sede del Cen
 tro dell’Incisione di Milano\, affacciato sull’Alzaia Naviglio Grande.
  La leggenda narra che qui Leonardo da Vinci abbia dipinto la famosa\nDama
  con l’ermellino.\nLa mostra “Vie D’Acqua” è il collettore di tut
 te le iniziative: installazioni\, esposizioni\, workshop e incontri temati
 ci animeranno i sette spazi di Palazzo Galloni — dall’Atrio d’ingres
 so al Cortile Verde\, con apertura al pubblico dal 21 al 26 aprile 2026.\n
 LUCE ACQUA MATERIA | VIE D’ACQUA — LA MOSTRA FOTOGRAFICA\nIn questa ed
 izione Canale a Colori ospiterà la mostra fotografica Vie D’Acqua di St
 efano Porro\, con introduzione di Piero Borghini. Un viaggio fotografico a
  ritroso lungo le vie d’acqua lombarde e piemontesi\, dalle sorgenti alp
 ine alla Darsena di Milano.\n\n\n\nLa mostra è composta da 35-40 immagini
  che creano un percorso espositivo lineare e immersivo\, accompagnato da e
 lementi sonori e testi evocativi\, con l’obiettivo di celebrare la belle
 zza e la fragilità del paesaggio fluviale e montano\, sensibilizzando il 
 pubblico sulle criticità ambientali legate all’acqua: emergenza idrica\
 , connessione tra territorio e urbanizzazione\, valorizzazione delle vie d
 ’acqua storiche e riflessione sul tempo\, sulla memoria e sulle radici c
 ulturali.\nLUCE ACQUA MATERIA | ESPOSIZIONI\nGli spazi di Palazzo Galloni 
 ospiteranno anche l’esposizione artistica di Gigi Pedroli\, artista e pu
 nto di riferimento del Centro dell’Incisione di Milano\, con un racconto
  dell’arte dell’incisione e la promozione del volume celebrativo dei 5
 0 anni del Centro dell’Incisione. Accanto a questa\, una selezione di og
 getti di design urbano dislocata tra i cortili e gli spazi outdoor arricch
 irà il percorso espositivo con una riflessione sul rapporto tra funzione\
 , estetica e sostenibilità urbana.\nLUCE ACQUA MATERIA | SOSTENIBILITÀ E
  MATERIA\nCanale A Colori 2026 può contare su un parterre di partner che 
 ne arricchiscono la proposta e ne sottolineano la vocazione trasversale\, 
 capace di connettere mondi diversi sotto il segno comune di luce\, acqua e
  materia.\nCittà Contemporanea e Milano City Door\, sono progetti immobil
 iari di CMB Casa. Entrambe le iniziative interpretano la città come spazi
 o in continua evoluzione\, in dialogo con i temi di sostenibilità come el
 emento fondante della qualità abitativa che animano l’intera manifestaz
 ione. Una moderna filosofia residenziale\, che riqualifica gli spazi e del
 le pratiche dell’abitare.\n\nNel segno della tradizione italiana del gus
 to\, Bevande Tassoni\, icona del made in Italy con la celebre Cedrata\, af
 fianca l’evento portando la propria storia di eccellenza artigianale e i
 l legame autentico con il territorio.\nAlla convivialità contribuisce anc
 he Fratelli Giacomel con il marchio Volkswagen con il Nuovo T-Roc\, partne
 r consolidato di Canale A Colori\, presente negli spazi outdoor del Palazz
 o Galloni.\nL’acqua\, tema centrale dell’edizione\, trova la sua espre
 ssione anche nella partnership con Maniva Acqua minerale alcalina ph8\, ch
 e porterà la propria visione sull’innovazione nei contenitori — i bri
 ck sostenibili completamente riciclabili — testimoniando come la tutela 
 del territorio e la sostenibilità delle proprie azioni siano legate l’u
 na con l’altra in modo indissolubile.\n\nUno spazio outdoor dove sarà p
 ossibile provare alcuni prodotti presenti nella manifestazione verrà orga
 nizzato da Square Garden\, partner storico di Canale a Colori\, impegnato 
 nelle numerose iniziative durante il Fuori Salone.\nRadio Bruno ci accompa
 gnerà con il suo intrattenimento e le interviste\; inoltre dispone di uno
  spazio dedicato al pubblico dove si potranno lasciare messaggi di energia
  e partecipazione.\nA completare la comunicazione nella città di Milano R
 eal Media promuoverà l’attività attraverso i numerosi impianti pubblic
 itari.\n\nNovaspace una giovane realtà con una missione chiara: riqualifi
 care gli spazi urbani attraverso soluzioni di pulizia innovative\, sosteni
 bili ed efficaci. Ogni superficie merita di essere valorizzata senza compr
 omessi per l’ambiente. Specializzata nella rimozione di graffiti\, nella
  pulizia laser professionale e nel mantenimento del decoro urbano. La facc
 iata ripulita di Palazzo Galloni il biglietto da visita per questa edizion
 e\n\nNinewatts porta a Canale a Colori la propria idea di luce: non solo i
 lluminazione\, ma esperienza. Le insegne neon LED si inseriscono nello spa
 zio ridisegnandolo\, plasmando atmosfere che catturano lo sguardo e danno 
 vita all’ambiente. Tra design e tecnologia\, la luce diventa un linguagg
 io espressivo\, capace di creare connessioni e suggestioni immersive.\n\nS
 tudio Galleria Entrambi Arts\, è la realizzazione di un sogno nato tra du
 e artisti Katia Trussardi e Sergio Rossi. Creeranno un’installazione mat
 erica\, un portale emozionale di accesso al nostro luogo magico\, la “Ve
 nere della Gioconda” un’opera in 3D che racconta la qualità delle emo
 zioni umane.\nCompleta il quadro delle partnership Lush\, l’azienda brit
 annica di cosmetici freschi e fatti a mano\, da sempre in prima linea nell
 a lotta per i diritti degli animali\, la tutela dell’ambiente e l’etic
 a nella produzione.\nLa presenza di Lush a Canale A Colori rafforza il mes
 saggio di responsabilità condivisa che attraversa l’intera manifestazio
 ne\, avvicinando il mondo della cosmetica sostenibile al dialogo tra desig
 n\, arte e natura.\nINCONTRI | PROGRAMMA\nIl programma di talk tematici e 
 di approfondimento che accompagneranno le serate del Fuorisalone.\nAll’i
 naugurazione del 21 aprile aprirà con Alessandro Pedroli\, che introdurr
 à il progetto e racconterà l’arte dell’incisione e la storia del Cen
 tro\, a cui seguirà la presentazione della mostra fotografica Vie D’Acq
 ua con il fotografo Stefano Porro. La serata si chiuderà con il talk “I
 l Design Immersivo della Luce” di Alessandro Fugattini.\nIl 24 aprile gl
 i incontri si concentreranno sul tema della sostenibilità ambientale\, co
 n Michelangelo Foglio e Paolo Lanzaroni (Maniva) che parleranno del design
  attraverso i contenitori dell’acqua\, e in seguito la Dott.ssa Valeria 
 Chinaglia del Consorzio Est Ticino Villoresi\, che affronterà il tema del
 la sostenibilità attraverso l’acqua.\n\n\nDETTAGLIO INCONTRI | PROGRAMM
 A\nMAR 21.04\n18:00 Inaugurazione ufficiale\n18:30 Alessandro Pedroli — 
 L’arte dell’Incisione e il libro 50 anni del Centro dell’Incisione\n
 19:00 Presentazione mostra fotografica VIE D’ACQUA\ncon Stefano Porro\, 
 fotografo\, con introduzione di Piero Borghini\n20:00 Alessandro Fugattini
  — “Il Design Immersivo della Luce”\n\nVEN 24.04\n100%\n17:00 IL DES
 IGN ATTRAVERSO I CONTENITORI DELL’ACQUA\, I BRICK\, SOSTENIBILI ECOLOGIC
 AMENTE AL\ncon Michelangelo Foglio e Paolo Lanzaroni — Gruppo Maniva\n19
 :00 LA SOSTENIBILITÀ ATTRAVERSO L’ACQUA\ncon Dott.ssa Valeria Chinaglia
  — Consorzio Est Ticino Villoresi\nIn queste serate verranno offerte una
  vasta gamma di prodotti del Fratelli Beretta 1812 accompagnati dal\nvino 
 milanese della cantina Faverzani\n\nORARI PER IL PUBBLICO\nMartedì 21 apr
 ile | ore 18:00 – 23:00\nMercoledì 22\, Giovedì 23\, Venerdì 24 | ore
  17:00 – 23:00\nSabato 25 | ore 14:00 – 23:45\nDomenica 26 | ore 10:00
  – 20:00
ATTACH;FMTTYPE=image/jpeg:https://www.radiobruno.it/wp-content/uploads/202
 6/04/canale-a-colori.jpg
CATEGORIES:Eventi Radio Bruno,Milano,Palcoscenico
LOCATION:Milano - Centro Incisione\, Alzaia Naviglio Grande 66\, Milano\, I
 talia
X-APPLE-STRUCTURED-LOCATION;VALUE=URI;X-ADDRESS=Alzaia Naviglio Grande 66\,
  Milano\, Italia;X-APPLE-RADIUS=100;X-TITLE=Milano - Centro Incisione:geo:
 0,0
END:VEVENT
BEGIN:VTIMEZONE
TZID:Europe/Rome
X-LIC-LOCATION:Europe/Rome
BEGIN:DAYLIGHT
DTSTART:20260329T030000
TZOFFSETFROM:+0100
TZOFFSETTO:+0200
TZNAME:CEST
END:DAYLIGHT
END:VTIMEZONE
END:VCALENDAR