BEGIN:VCALENDAR
VERSION:2.0
PRODID:-//wp-events-plugin.com//7.2.3.1//EN
TZID:Europe/Rome
X-WR-TIMEZONE:Europe/Rome
BEGIN:VEVENT
UID:6989@radiobruno.it
DTSTART;TZID=Europe/Rome;VALUE=DATE:20240127
DTEND;TZID=Europe/Rome;VALUE=DATE:20240129
DTSTAMP:20240122T092744Z
URL:https://www.radiobruno.it/eventi/cima-festival-week-2/
SUMMARY:CIMA Festival - Week 2
DESCRIPTION:CIMA Festival è un evento di musica elettronica che si svolge
  a 1430m di altitudine sul Monte Cimone.\n\nIl festival musicale si svolge
  in due giorni con eventi di giorno e di notte.\n\nIl DAY time è all’ap
 erto sulle piste da sci nei pressi del Rifugio Zambelli al Cimoncino.\n\nI
 l NIGHT time si svolge in location istituzionali con patrocinio dei comuni
  di Sestola e Fanano.\n\n\n\nPROGRAMMA WEEK 2\n\nDay 1 - Day Time | 27.01 
 From 12:00 to 19:00 c/o Cimoncino\n\nDay 1 - Night Time | 27.01 From 21:00
  to 04:00 at Gosling - Sestola\n\nDay 2 - Day Time | 28.01 From 12:00 till
  late c/o Cimoncino\n\nInfo: www.cimafestival.it\n\n&nbsp\;
ATTACH;FMTTYPE=image/jpeg:https://www.radiobruno.it/wp-content/uploads/202
 4/01/CIMA-weekend-2.jpg
CATEGORIES:Eventi Radio Bruno,Modena,Palcoscenico
LOCATION:Fanano\, Via Cimoncino\, Fanano\, Modena\, 41012\, Italia
X-APPLE-STRUCTURED-LOCATION;VALUE=URI;X-ADDRESS=Via Cimoncino\, Fanano\, Mo
 dena\, 41012\, Italia;X-APPLE-RADIUS=100;X-TITLE=Fanano:geo:0,0
END:VEVENT
BEGIN:VTIMEZONE
TZID:Europe/Rome
X-LIC-LOCATION:Europe/Rome
BEGIN:STANDARD
DTSTART:20231029T020000
TZOFFSETFROM:+0200
TZOFFSETTO:+0100
TZNAME:CET
END:STANDARD
END:VTIMEZONE
END:VCALENDAR