BEGIN:VCALENDAR
VERSION:2.0
PRODID:-//wp-events-plugin.com//7.2.3.1//EN
TZID:Europe/Rome
X-WR-TIMEZONE:Europe/Rome
BEGIN:VEVENT
UID:7647@radiobruno.it
DTSTART;TZID=Europe/Rome:20250831T170000
DTEND;TZID=Europe/Rome:20250831T210000
DTSTAMP:20250826T110130Z
URL:https://www.radiobruno.it/eventi/collebeato-festa-del-raccolto-il-lupp
 olo-diventa-birra-domenica-31-agosto/
SUMMARY:Collebeato\, Festa del Raccolto: il luppolo diventa birra\, domenic
 a 31 agosto!
DESCRIPTION:Domenica 31 agosto 2025\, dalle ore 17\, l’Agriturismo Locand
 a del Pesco ospita la Festa del Raccolto\, un appuntamento originale che u
 nisce convivialità e tradizione agricola.\n\nIl protagonista sarà il lup
 polo\, pianta fondamentale per la birra: i partecipanti potranno raccoglie
 rlo direttamente nel luppoleto Curtense\, adiacente alla locanda\, e otten
 ere in cambio una birra fresca.\n\nL’iniziativa\, organizzata in collabo
 razione con il Birrificio Artigianale Curtense\, vuole celebrare la filier
 a corta e far conoscere da vicino il legame tra territorio e birra artigia
 nale.\n\nLa serata proseguirà con la possibilità di cenare presso la loc
 anda\, per completare l’esperienza tra sapori e convivialità.\n\nLa pre
 notazione è obbligatoria (Locanda del Pesco\, via dei Partigiani – Coll
 ebeato\; info: 331 1543842 – 030 2511763 – info@locandadelpesco.it).\n
 \nUn’occasione per vivere la campagna\, scoprire come nasce la birra e c
 ondividere un brindisi sotto il cielo di fine estate.17
ATTACH;FMTTYPE=image/jpeg:https://www.radiobruno.it/wp-content/uploads/202
 5/08/WhatsApp-Image-2025-08-26-at-11.28.05.jpeg
CATEGORIES:Appuntamenti,Brescia,Palcoscenico
END:VEVENT
BEGIN:VTIMEZONE
TZID:Europe/Rome
X-LIC-LOCATION:Europe/Rome
BEGIN:DAYLIGHT
DTSTART:20250330T030000
TZOFFSETFROM:+0100
TZOFFSETTO:+0200
TZNAME:CEST
END:DAYLIGHT
END:VTIMEZONE
END:VCALENDAR