BEGIN:VCALENDAR
VERSION:2.0
PRODID:-//wp-events-plugin.com//7.2.3.1//EN
TZID:Europe/Rome
X-WR-TIMEZONE:Europe/Rome
BEGIN:VEVENT
UID:7040@radiobruno.it
DTSTART;TZID=Europe/Rome;VALUE=DATE:20240413
DTEND;TZID=Europe/Rome;VALUE=DATE:20240415
DTSTAMP:20240409T104010Z
URL:https://www.radiobruno.it/eventi/cremonabricks-2024-e-pronta-a-stupirv
 i-il-13-e-14-aprile-in-fiera-a-cremona/
SUMMARY:CREMONA&BRICKS 2024 è pronta a stupirvi il 13 e 14 aprile\, in Fie
 ra a Cremona!
DESCRIPTION:CREMONA&amp\;BRICKS 2024 è pronta a stupirvi il 13 e 14 aprile
 \, in Fiera a Cremona!\n\nIn esposizione meravigliosi set\, costruzioni e 
 diorami tematici. \nTra eventi e spettacoli a tema\, ritroverete i persona
 ggi più amati di Harry Potter\, Star Wars e Disney. \nL'Area Gioco attend
 e i bambini di tutte le età!\n500 kg di mattoncini sfusi nell'area ravana
 ta e una selezionatissima area mercatino.\n\n\nArea food e ampio parcheggi
 o gratuito.\n\nBiglietti disponibili online: Prenota cliccando QUI!\n\nCre
 mona&amp\;Bricks: un mondo da costruire\, un sogno da realizzare. Vi aspet
 tiamo!
ATTACH;FMTTYPE=image/jpeg:https://www.radiobruno.it/wp-content/uploads/202
 4/04/WhatsApp-Image-2024-04-08-at-09.33.51.jpeg
CATEGORIES:Appuntamenti,Brescia,Cremona,Palcoscenico
END:VEVENT
BEGIN:VTIMEZONE
TZID:Europe/Rome
X-LIC-LOCATION:Europe/Rome
BEGIN:DAYLIGHT
DTSTART:20240331T030000
TZOFFSETFROM:+0100
TZOFFSETTO:+0200
TZNAME:CEST
END:DAYLIGHT
END:VTIMEZONE
END:VCALENDAR