BEGIN:VCALENDAR
VERSION:2.0
PRODID:-//wp-events-plugin.com//7.2.3.1//EN
TZID:Europe/Rome
X-WR-TIMEZONE:Europe/Rome
BEGIN:VEVENT
UID:7643@radiobruno.it
DTSTART;TZID=Europe/Rome:20250831T090000
DTEND;TZID=Europe/Rome:20250831T130000
DTSTAMP:20250826T105116Z
URL:https://www.radiobruno.it/eventi/dello-si-tinge-di-rosa-walk-for-the-c
 ure-il-31-agosto-2025/
SUMMARY:Dello si tinge di rosa: “Walk for the Cure” il 31 agosto 2025
DESCRIPTION:Una camminata solidale per sostenere la salute femminile. Domen
 ica 31 agosto 2025\, a partire dalle ore 10.00\, il Comune di Dello ospit
 erà la “Walk for the Cure”\, passeggiata benefica a sostegno di Kom
 en Italia\, organizzazione impegnata nella prevenzione e nella lotta ai tu
 mori del seno.\nIl ritrovo dei partecipanti è fissato alle 9.30 presso 
 la piastra polivalente di Via Avis a Corticelle Pieve\, da cui prenderà i
 l via il percorso che condurrà fino a Piazza Roma a Dello\, attraversand
 o le frazioni di Boldeniga e Quinzanello.\nPer partecipare è prevista una
  donazione minima di 10 euro\, con la quale si riceverà la maglia uffici
 ale della manifestazione. I kit possono essere ritirati nei corner pre-isc
 rizioni presso la Farmacia Scalvini di Dello\, la Farmacia della Pieve
  di Corticelle e l’Hair Office di Manerbio.\nLa camminata unirà movim
 ento\, socialità e solidarietà\, con il ricavato destinato interamente a
  finanziare i progetti di Komen Italia per la prevenzione\, la cura e la r
 icerca contro i tumori al seno.\n Info e aggiornamenti disponibili su ww
 w.komen.it o tramite il sito/app MyDello.\n Per informazioni: 339.7162587
 .9
ATTACH;FMTTYPE=image/jpeg:https://www.radiobruno.it/wp-content/uploads/202
 5/08/WhatsApp-Image-2025-08-22-at-13.04.58-743x1024-1.jpeg
CATEGORIES:Appuntamenti,Brescia,Palcoscenico
END:VEVENT
BEGIN:VTIMEZONE
TZID:Europe/Rome
X-LIC-LOCATION:Europe/Rome
BEGIN:DAYLIGHT
DTSTART:20250330T030000
TZOFFSETFROM:+0100
TZOFFSETTO:+0200
TZNAME:CEST
END:DAYLIGHT
END:VTIMEZONE
END:VCALENDAR