BEGIN:VCALENDAR
VERSION:2.0
PRODID:-//wp-events-plugin.com//7.2.3.1//EN
TZID:Europe/Rome
X-WR-TIMEZONE:Europe/Rome
BEGIN:VEVENT
UID:7625@radiobruno.it
DTSTART;TZID=Europe/Rome:20250810T170000
DTEND;TZID=Europe/Rome:20250810T200000
DTSTAMP:20250804T113035Z
URL:https://www.radiobruno.it/eventi/domenica-10-agosto-2025-solto-collina
 -torna-a-correre-con-la-12a-edizione-della-soltorun/
SUMMARY:Domenica 10 agosto 2025\, Solto Collina torna a correre con la 12ª
  edizione della SOLTORun
DESCRIPTION:Domenica 10 agosto 2025\, Solto Collina torna a correre con la
  12ª edizione della SOLTORun\, una manifestazione podistica non competit
 iva aperta a tutti\, organizzata dall’Oratorio di Solto Collina – sezi
 one Running\, in occasione della Festa Patronale 2025 e con il patrocini
 o della Amministrazione Comunale.\nL’evento si svolgerà presso l’Ora
 torio San Giovanni Bosco. Il ritrovo è previsto per le ore 17:15 e la p
 artenza alle ore 18:45. L’iscrizione ha un costo simbolico di € 5\,0
 0 e comprende anche un buono cena per i primi 300 iscritti\, da utiliz
 zare la sera stessa presso la cucina dell’oratorio.\nIl percorso\, faci
 le e adatto anche ai camminatori\, è lungo 6\,5 km e si snoda tra le vi
 e e i sentieri del territorio\, offrendo un’occasione per fare sport\, d
 ivertirsi e godere del paesaggio locale.
ATTACH;FMTTYPE=image/jpeg:https://www.radiobruno.it/wp-content/uploads/202
 5/08/WhatsApp-Image-2025-08-04-at-07.47.49.jpeg
CATEGORIES:Appuntamenti,Brescia,Palcoscenico
END:VEVENT
BEGIN:VTIMEZONE
TZID:Europe/Rome
X-LIC-LOCATION:Europe/Rome
BEGIN:DAYLIGHT
DTSTART:20250330T030000
TZOFFSETFROM:+0100
TZOFFSETTO:+0200
TZNAME:CEST
END:DAYLIGHT
END:VTIMEZONE
END:VCALENDAR