BEGIN:VCALENDAR
VERSION:2.0
PRODID:-//wp-events-plugin.com//7.2.3.1//EN
TZID:Europe/Rome
X-WR-TIMEZONE:Europe/Rome
BEGIN:VEVENT
UID:7042@radiobruno.it
DTSTART;TZID=Europe/Rome;VALUE=DATE:20240414
DTEND;TZID=Europe/Rome;VALUE=DATE:20240415
DTSTAMP:20240409T110204Z
URL:https://www.radiobruno.it/eventi/domenica-14-aprile-in-piazza-loggia-a
 rrivano-mille-chitarre-in-piazza/
SUMMARY:Domenica 14 Aprile in Piazza Loggia arrivano “Mille Chitarre in P
 iazza”
DESCRIPTION:Giunta alla sua 11esima edizione\, torna anche quest’anno la 
 manifestazione “Mille Chitarre in Piazza”\, che si svolgerà per tutta
  la giornata di Domenica 14 Aprile in Piazza Loggia.\nGuest Star Andrea Br
 aido\, per maggiori informazioni www.millechitarreinpiazza.com
ATTACH;FMTTYPE=image/jpeg:https://www.radiobruno.it/wp-content/uploads/202
 4/04/WhatsApp-Image-2024-04-08-at-09.34.04.jpeg
CATEGORIES:Appuntamenti,Brescia,Palcoscenico
END:VEVENT
BEGIN:VTIMEZONE
TZID:Europe/Rome
X-LIC-LOCATION:Europe/Rome
BEGIN:DAYLIGHT
DTSTART:20240331T030000
TZOFFSETFROM:+0100
TZOFFSETTO:+0200
TZNAME:CEST
END:DAYLIGHT
END:VTIMEZONE
END:VCALENDAR