BEGIN:VCALENDAR
VERSION:2.0
PRODID:-//wp-events-plugin.com//7.2.3.1//EN
TZID:Europe/Rome
X-WR-TIMEZONE:Europe/Rome
BEGIN:VEVENT
UID:7547@radiobruno.it
DTSTART;TZID=Europe/Rome;VALUE=DATE:20250608
DTEND;TZID=Europe/Rome;VALUE=DATE:20250609
DTSTAMP:20250603T081732Z
URL:https://www.radiobruno.it/eventi/domenica-8-giugno-prevalle-champion-c
 up/
SUMMARY:Domenica 8 giugno: Prevalle Champion Cup!
DESCRIPTION:6° Memorial Ottorino Braga.
ATTACH;FMTTYPE=image/jpeg:https://www.radiobruno.it/wp-content/uploads/202
 5/06/WhatsApp-Image-2025-06-03-at-09.42.48.jpeg
CATEGORIES:Appuntamenti,Brescia,Palcoscenico
END:VEVENT
BEGIN:VTIMEZONE
TZID:Europe/Rome
X-LIC-LOCATION:Europe/Rome
BEGIN:DAYLIGHT
DTSTART:20250330T030000
TZOFFSETFROM:+0100
TZOFFSETTO:+0200
TZNAME:CEST
END:DAYLIGHT
END:VTIMEZONE
END:VCALENDAR