BEGIN:VCALENDAR
VERSION:2.0
PRODID:-//wp-events-plugin.com//7.2.3.1//EN
TZID:Europe/Rome
X-WR-TIMEZONE:Europe/Rome
BEGIN:VEVENT
UID:7406@radiobruno.it
DTSTART;TZID=Europe/Rome;VALUE=DATE:20250123
DTEND;TZID=Europe/Rome;VALUE=DATE:20250220
DTSTAMP:20250123T155953Z
URL:https://www.radiobruno.it/eventi/el-sombrero-50-anni-di-storia/
SUMMARY:EL SOMBRERO-50 ANNI DI STORIA
DESCRIPTION:\n\nE'pronto un libro che ripercorre un pezzo di storia importa
 nte non solo per San Miniato\, ma per un’ampia zona. È prossima nel mes
 e di febbraio la presentazione del volume "50 El Sombrero la storia e le e
 mozioni"\, scritto da Franco Polidori\, da un’idea del Comitato 50 El So
 mbrero. Il libro curato dalle edizioni Pacini\, narra la vicenda quando na
 cque la Casa Culturale e con essa il locale dancing che nel corso di tanti
  anni sul quel palcoscenico ha ospitato i big della musica italiana\, nonc
 hé la discoteca assoluta novità per quei tempi. Il locale ha segnato un 
 ’epoca\, fatta di musica\, di serate\, di libertà per alcune generazion
 i di giovani. A fianco la casa Culturale\, motore della vita sociale della
  frazione di San Miniato Basso\, ancora oggi epicentro dei grandi eventi\,
  dei momenti di socializzazione. nei prossimi giorni sarà resa nota la da
 ta di presentazione del volume. E quella serata sarà indubbiamente un eve
 nto per ricordare e per raccontare anche ai giovani di oggi il significato
  di questa lunga avventura che ha compiuto mezzo secolo.\n\n
ATTACH;FMTTYPE=image/jpeg:https://www.radiobruno.it/wp-content/uploads/202
 5/01/50_El_Sombrero.jpg
CATEGORIES:Palcoscenico,Toscana
END:VEVENT
BEGIN:VTIMEZONE
TZID:Europe/Rome
X-LIC-LOCATION:Europe/Rome
BEGIN:STANDARD
DTSTART:20241027T020000
TZOFFSETFROM:+0200
TZOFFSETTO:+0100
TZNAME:CET
END:STANDARD
END:VTIMEZONE
END:VCALENDAR