BEGIN:VCALENDAR
VERSION:2.0
PRODID:-//wp-events-plugin.com//7.2.3.1//EN
TZID:Europe/Rome
X-WR-TIMEZONE:Europe/Rome
BEGIN:VEVENT
UID:7640@radiobruno.it
DTSTART;TZID=Europe/Rome:20250831T100000
DTEND;TZID=Europe/Rome:20250831T180000
DTSTAMP:20250825T144823Z
URL:https://www.radiobruno.it/eventi/festa-degli-sport-acquatici-ii-edizio
 ne/
SUMMARY:Festa degli Sport Acquatici – II edizione a Firenze
DESCRIPTION:Domenica 31 agosto torna\, dopo il successo della prima edizion
 e\, la Festa degli Sport Acquatici. La manifestazione\, che affianca il To
 rneo Internazionale di Rugby Subacqueo "Firenze Cup"\, dà la possibilità
  a adulti\, ragazzi e bambini di provare discipline sportive acquatiche ne
 llo splendido scenario della piscina Costoli di Firenze.\nSaranno a dispos
 izione dei partecipanti istruttori esperti per le prove di nuoto sincroniz
 zato\, pallanuoto\, avviamento al nuoto\, apnea\, rugby subacqueo\, immers
 ioni con bombole\, nuoto pinnato\, waterbasket. L’evento si prospetta co
 me una grande occasione per provare gli sport anche per le persone con dis
 abilità\, che avranno a disposizione istruttori specializzati in molte de
 lle discipline presenti.\n\nLa partecipazione della SNS Salvamento di Fire
 nze e della Misericordia di Campo di Marte valorizzeranno il tema della si
 curezza nella pratica sportiva e del primo soccorso pediatrico. Sarà poss
 ibile quindi effettuare simulazioni di BLSD (Basic Life Support con Defibr
 illatore).\n\nQuest’anno l’evento si svolgerà in due sessioni: una ma
 ttutina dalle 10 alle 13 in contemporanea alle finali del Torneo Internazi
 onale\, ed una pomeridiana dalle 15 alle 18. Una grande novità di quest
 ’anno è l’Happy Sport Hour che permetterà a tutti i giovani da 18 a 
 30 anni di fare l’aperitivo in piscina fra le 18 e le 20\, dopo le prove
  in acqua\, ad un costo molto contenuto. Anche per questo sarà presente R
 adio Bruno che animerà il pomeriggio con un DJ-Set.\n\nL’evento ha il p
 atrocinio del Comune di Firenze\, della Regione Toscana e del CIP Toscana 
 (Comitato Italiano Paralimpico)\, ai quali vanno i più sentiti ringraziam
 enti dell'Organizzazione.\n\nL’evento è sostenuto inoltre dalla Mukki\,
  grazie al concorso Mukkisport che la Festa ha vinto\, e da Publiacqua che
 \, oltre a contribuire all'organizzazione\, metterà a disposizione un fon
 tanello di acqua fresca.\n\nLa partecipazione è gratuita. È obbligatoria
  la registrazione che può essere fatta sul sito www.festadeglisportacquat
 ici.it oppure inquadrando il QR code sulla locandina.\n\nTorneo Internazio
 nale di Rugby Subacqueo “Firenze Cup” – XIX edizione\nFesta degli Sp
 ort Acquatici – II edizione\nProgramma della manifestazione\n\n● Sabat
 o 30 agosto - Torneo\n● 8.00 Arrivo delle squadre partecipanti\n● 9.00
  Inizio competizioni giorno 1\n● 19.00 Fine competizioni giorno 1\n\n●
  Domenica 31 agosto – Torneo\n● 8.00 Inizio delle competizioni giorno 
 2\n● 13.00 Fine delle competizioni giorno 2\n● 13.30 Premiazione\n● 
 14.00 Fine del Torneo\n\n● Domenica 31 agosto - Festa degli Sport acquat
 ici\n● 10.00 Inizio delle prove mattutine\n● 13.00 Fine delle prove ma
 ttutine\n● 15.00 Inizio delle prove pomeridiane\n● 16.30 Celebrazione 
 e ringraziamenti\n● 18.00 Inizio Happy Sport Hour\n● 20.00 Fine della 
 manifestazione
ATTACH;FMTTYPE=image/jpeg:https://www.radiobruno.it/wp-content/uploads/202
 5/08/2025-Festa-locandina-LQ.png
CATEGORIES:Eventi Radio Bruno,Palcoscenico,Toscana
LOCATION:Piscina Paolo Costoli\, Piazza Enrico Berlinguer\, 2\, Firenze\, I
 talia
X-APPLE-STRUCTURED-LOCATION;VALUE=URI;X-ADDRESS=Piazza Enrico Berlinguer\, 
 2\, Firenze\, Italia;X-APPLE-RADIUS=100;X-TITLE=Piscina Paolo Costoli:geo:
 0,0
END:VEVENT
BEGIN:VTIMEZONE
TZID:Europe/Rome
X-LIC-LOCATION:Europe/Rome
BEGIN:DAYLIGHT
DTSTART:20250330T030000
TZOFFSETFROM:+0100
TZOFFSETTO:+0200
TZNAME:CEST
END:DAYLIGHT
END:VTIMEZONE
END:VCALENDAR