BEGIN:VCALENDAR
VERSION:2.0
PRODID:-//wp-events-plugin.com//7.2.3.1//EN
TZID:Europe/Rome
X-WR-TIMEZONE:Europe/Rome
BEGIN:VEVENT
UID:7653@radiobruno.it
DTSTART;TZID=Europe/Rome;VALUE=DATE:20250906
DTEND;TZID=Europe/Rome;VALUE=DATE:20250908
DTSTAMP:20250828T135550Z
URL:https://www.radiobruno.it/eventi/firenze-comics-2025/
SUMMARY:Firenze Comics 2025
DESCRIPTION:Siamo felici di poter annunciare che anche quest'anno Radio Bru
 no sarà la radio ufficiale di Firenze Comics!\nDal 31 luglio tutti sinton
 izzati su Radio Bruno per ascoltare i nostri spot e le interviste agli org
 anizzatori di Firenze Comics‼\n\nInoltre non perdetevi il Dj set di DJ-V
  sabato 6 settembre\, la Dj di Radio Bruno vi farà ballare e saltare con 
 un set a tema cartoons e le più affascinanti colonne sonore dei film.\n\n
 \n\n&nbsp\;\n\n\n\n\n\n\n\n\n\n\nVisualizza questo post su Instagram\n\n\n
 \n\n\n\n\n\n\n\n\n\n\n\n\n\n\n\n\n\n\n\n&nbsp\;\nUn post condiviso da Fire
 nzeComics (@firenzecomics)\n\n\n
ATTACH;FMTTYPE=image/jpeg:https://www.radiobruno.it/wp-content/uploads/202
 5/08/IMG-20250322-WA0019.webp
CATEGORIES:Eventi Radio Bruno,Palcoscenico,Toscana
LOCATION:Parco di Villa Montalvo\, Villa Montalvo\, Campi Bisenzio\, Firenz
 e\, Italia
X-APPLE-STRUCTURED-LOCATION;VALUE=URI;X-ADDRESS=Villa Montalvo\, Campi Bise
 nzio\, Firenze\, Italia;X-APPLE-RADIUS=100;X-TITLE=Parco di Villa Montalvo
 :geo:0,0
END:VEVENT
BEGIN:VTIMEZONE
TZID:Europe/Rome
X-LIC-LOCATION:Europe/Rome
BEGIN:DAYLIGHT
DTSTART:20250330T030000
TZOFFSETFROM:+0100
TZOFFSETTO:+0200
TZNAME:CEST
END:DAYLIGHT
END:VTIMEZONE
END:VCALENDAR