BEGIN:VCALENDAR
VERSION:2.0
PRODID:-//wp-events-plugin.com//7.2.3.1//EN
TZID:Europe/Rome
X-WR-TIMEZONE:Europe/Rome
BEGIN:VEVENT
UID:7546@radiobruno.it
DTSTART;TZID=Europe/Rome:20250607T190000
DTEND;TZID=Europe/Rome:20250607T223000
DTSTAMP:20250603T081104Z
URL:https://www.radiobruno.it/eventi/gambara-in-rosa-corre-in-rosso-sabato
 -7-giugno-dalle-19-00/
SUMMARY:Gambara in rosa corre in rosso: sabato 7 giugno dalle 19.00!
DESCRIPTION:Sabato 7 giugno la camminata di 4km a favore di LILT Brescia.
ATTACH;FMTTYPE=image/jpeg:https://www.radiobruno.it/wp-content/uploads/202
 5/06/WhatsApp-Image-2025-06-02-at-17.59.13.jpeg
CATEGORIES:Appuntamenti,Brescia,Palcoscenico
END:VEVENT
BEGIN:VTIMEZONE
TZID:Europe/Rome
X-LIC-LOCATION:Europe/Rome
BEGIN:DAYLIGHT
DTSTART:20250330T030000
TZOFFSETFROM:+0100
TZOFFSETTO:+0200
TZNAME:CEST
END:DAYLIGHT
END:VTIMEZONE
END:VCALENDAR