BEGIN:VCALENDAR
VERSION:2.0
PRODID:-//wp-events-plugin.com//7.2.3.1//EN
TZID:Europe/Rome
X-WR-TIMEZONE:Europe/Rome
BEGIN:VEVENT
UID:7391@radiobruno.it
DTSTART;TZID=Europe/Rome:20250119T080000
DTEND;TZID=Europe/Rome:20250119T190000
DTSTAMP:20250108T090955Z
URL:https://www.radiobruno.it/eventi/gli-ambulanti-di-forte-dei-marmi-a-bo
 logna/
SUMMARY:Gli Ambulanti di Forte dei Marmi a Bologna
DESCRIPTION:Torna finalmente in città l’atteso appuntamento con il merca
 to di qualità più famoso d’Italia\n"Gli Ambulanti di Forte dei Marmi®
 ” a BOLOGNA FIERE domenica 19 gennaio\nNel Padiglione 35\, al coperto e 
 con ingresso gratuito\, le mitiche e originali “boutique a cielo aperto
 ”\nGli Ambulanti di Forte dei Marmi: le bancarelle del mercato di qualit
 à più famoso d’Italia tornano finalmente a grande richiesta in città 
 con tutto il meglio del Made in Italy artigianale e le ultime tendenze del
 la moda. Si potranno ammirare le ormai mitiche “boutique a cielo aperto
 ” dell’originale Consorzio domenica 19 gennaio a BOLOGNA FIERE (access
 o da Piazzale Aldo Moro) nel Padiglione 35\, al coperto\, quindi al riparo
  da eventuali intemperie\, e con ingresso gratuito. Dunque\, un’occasion
 e da non perdere assolutamente per i tanti appassionati del genere\, come 
 sempre all’insegna dello shopping più glamour e conveniente\, con orari
 o continuato\, anche in caso di maltempo\, dalle 8 alle 19.\n\nSarà\, com
 e al solito\, un autentico spettacolo di bancarelle\, colori e pubblico\, 
 che faranno rivivere le magiche atmosfere del Mercato del Forte\, sinonimo
  di genuinità e qualità artigianale garantita. Sui grandi banchi di vend
 ita è infatti possibile trovare il meglio della tradizione toscana ed ita
 liana dell'artigianato di qualità: abbigliamento\, con nuove collezioni g
 riffate e di stock\, pelletteria di altissima fattura artigianale (borse e
  scarpe)\, la migliore produzione nazionale di cashmere\, pellicceria\, st
 offe pregiate\, biancheria per la casa\, porcellane\, bijoux\, raffinati t
 essuti di arte fiorentina. La qualità è sempre rigorosamente declinata a
 nche con la massima convenienza. Bandite per statuto imitazioni e "cineser
 ie" di scarso pregio\, è sui banchi de "Gli Ambulanti di Forte di Marmi" 
 che si trovano le nuove tendenze della moda\, spesso riprese anche da tant
 i fashion blog e magazine femminili.\n\n\n\nNon a caso il Consorzio (depos
 itario del marchio unico\, originale e registrato “Gli Ambulanti di Fort
 e dei Marmi”)\, nato per primo nel 2002 dall’unione di alcuni dei migl
 iori banchi storicamente e tuttora presenti nello storico e famoso (nel mo
 ndo) mercato di Forte dei Marmi\, con lo scopo di renderne itinerante lo s
 pettacolo nelle piazze nazionali\, è stato da allora oggetto di diversi t
 entativi di imitazione. "Il nostro è un invito - spiega il Presidente del
  Consorzio\, Andrea Ceccarelli - a diffidare di ogni tentativo di imitazio
 ne e valutare\, invece\, passando direttamente tra i nostri banchi\, la qu
 alità delle nostre merci e l'immagine coordinata delle nostre bancarelle.
  Il nostro marchio è ormai sinonimo di shopping esclusivo e conveniente".
 \n\nPer conoscere nel dettaglio il calendario completo delle date dei merc
 ati dello show itinerante de "Gli Ambulanti di Forte di Marmi®"\, è poss
 ibile consultare l’unico sito web ufficiale (attenzione ai "fake") www.g
 liambulantidifortedeimarmi.it\, dal quale si accede anche alla pagina Face
 book da ormai 200mila fans reali e certificati\, agli altri social media e
 d alla App del Consorzio.\n\nEvento-Mercato di qualità con "Gli Ambulanti
  di Forte dei Marmi®”\n• Domenica 19 gennaio – BOLOGNA FIERE (si ac
 cede da Piazzale Aldo Moro)\, padiglione 35\, al coperto e con ingresso gr
 atuito - BOLOGNA\nDalle 8.00 alle 19.00\, con orario continuato anche in c
 aso di maltempo
ATTACH;FMTTYPE=image/jpeg:https://www.radiobruno.it/wp-content/uploads/202
 5/01/A6-Bologna-Fiere.jpg
CATEGORIES:Bologna,Palcoscenico
LOCATION:Bologna Fiere\, viale della Fiera 20\, Bologna\, Italia
GEO:44.50991607519577;11.368883885180594
X-APPLE-STRUCTURED-LOCATION;VALUE=URI;X-ADDRESS=viale della Fiera 20\, Bolo
 gna\, Italia;X-APPLE-RADIUS=100;X-TITLE=Bologna Fiere:geo:44.5099160751957
 7,11.368883885180594
END:VEVENT
BEGIN:VTIMEZONE
TZID:Europe/Rome
X-LIC-LOCATION:Europe/Rome
BEGIN:STANDARD
DTSTART:20241027T020000
TZOFFSETFROM:+0200
TZOFFSETTO:+0100
TZNAME:CET
END:STANDARD
END:VTIMEZONE
END:VCALENDAR