BEGIN:VCALENDAR
VERSION:2.0
PRODID:-//wp-events-plugin.com//7.2.3.1//EN
TZID:Europe/Rome
X-WR-TIMEZONE:Europe/Rome
BEGIN:VEVENT
UID:7897@radiobruno.it
DTSTART;TZID=Europe/Rome;VALUE=DATE:20260501
DTEND;TZID=Europe/Rome;VALUE=DATE:20260504
DTSTAMP:20260424T101507Z
URL:https://www.radiobruno.it/eventi/hbt-open-air-2026/
SUMMARY:HBT Open Air 2026
DESCRIPTION:Tre giorni di house music\, con una line-up che mette insieme a
 rtisti internazionali e giovani talenti italiani emergenti in un’area ex
 -industriale: dall’1 al 3 maggio 2026 torna a Reggio Emilia HBT Open Air
 .\n\nHBT Open Air è il festival nato dal progetto HBT\, collettivo e orga
 nizzazione di eventi fondato nel 2018 da un gruppo di giovani DJ reggiani 
 che negli ultimi anni ha contribuito allo sviluppo della scena underground
  e club della città\, promuovendo una visione della club culture basata s
 ulla ricerca musicale e sulla qualità dell’esperienza in pista. Con l
 ’edizione 2026 il progetto compie un ulteriore passo avanti: il festival
  si espande su tre giornate e si sposta in una nuova area del Parco Innova
 zione di Reggio Emilia\, all’interno dell’ex complesso industriale del
 le Officine Reggiane.\n\nLo spazio\, recentemente riqualificato\, verrà u
 tilizzato per la prima volta per un evento musicale di questo tipo\, trasf
 ormandosi per tre giorni in una venue open air dedicata alla musica elettr
 onica. La line-up riunisce artisti affermati della scena house internazion
 ale insieme a una selezione di DJ e producer italiani tra i più interessa
 nti della nuova generazione.\n\nTra i nomi principali figurano Cinthie\, f
 igura centrale della scena berlinese e fondatrice dell’etichetta 803 Cry
 stal Grooves\, e Demi Riquísimo\, producer britannico tra i protagonisti 
 della nuova ondata house internazionale con la sua etichetta Semi Deliciou
 s. Accanto a loro saliranno sul palco anche Rooléh\, D-Stone\, Us Two\, E
 ternal Love e Andrew Azara\, artisti che si stanno distinguendo per un app
 roccio fresco e personale alla house music\, con release su etichette impo
 rtanti e performance in club e festival in tutto il mondo.\n\n[gallery siz
 e="large" td_select_gallery_slide="slide" link="file" ids="248339\,248340\
 ,248341\,248342\,248343\,248344\,248345\,248346\,248347"]\n\nUno degli ele
 menti più distintivi dell’edizione 2026 sarà la presenza di special ba
 ck-to-back esclusivi tra resident del progetto HBT e artisti internazional
 i: set inediti pensati appositamente per il festival\, che mettono in dial
 ogo la scena locale con quella europea. Tra i back-to-back annunciati: Pie
 m B2B Nich All Us\, Havoc &amp\; Lawn B2B Simon Kidzoo\, Larry Masmero B2B
  Hurricane B\, Heider B2B Giant B2B Nofex. Accanto a questi nomi\, il fest
 ival presenterà anche una selezione di talenti emergenti della scena ital
 iana\, tra cui Sean Afful\, insieme a DJ e collettivi della scena undergro
 und locale come Peak Freeak Soundsystem\, DJ Fly\, Spampa\, Gixon e DJ Chi
 cane.\n\nCuore dell’esperienza sarà un sound system Funktion-One\, scel
 to per garantire una resa sonora di alto livello e valorizzare al massimo 
 la programmazione artistica del festival. Con questa nuova edizione\, HBT 
 Open Air rafforza la propria identità come uno dei festival più interess
 anti della scena nel Nord Italia\, costruendo una line-up che unisce artis
 ti internazionali\, nuove promesse europee e la comunità musicale locale\
 , in una location unica come il Parco Innovazione\, che per tre giorni si 
 trasformerà in uno spazio dedicato alla musica elettronica\, il tutto a i
 ngresso gratuito.\n\nINFO\nHBT Open Air 2026\nParco Innovazione – Reggio
  Emilia\n1 / 2 / 3 maggio 2026\nIngresso gratuito
ATTACH;FMTTYPE=image/jpeg:https://www.radiobruno.it/wp-content/uploads/202
 6/04/Copia-di-OA_POST.png
CATEGORIES:Eventi Radio Bruno,Palcoscenico,Reggio Emilia
LOCATION:Parco Innovazione\, Piazzale Europa 1\, Reggio Emilia\, Italia
X-APPLE-STRUCTURED-LOCATION;VALUE=URI;X-ADDRESS=Piazzale Europa 1\, Reggio 
 Emilia\, Italia;X-APPLE-RADIUS=100;X-TITLE=Parco Innovazione:geo:0,0
END:VEVENT
BEGIN:VTIMEZONE
TZID:Europe/Rome
X-LIC-LOCATION:Europe/Rome
BEGIN:DAYLIGHT
DTSTART:20260329T030000
TZOFFSETFROM:+0100
TZOFFSETTO:+0200
TZNAME:CEST
END:DAYLIGHT
END:VTIMEZONE
END:VCALENDAR