BEGIN:VCALENDAR
VERSION:2.0
PRODID:-//wp-events-plugin.com//7.2.3.1//EN
TZID:Europe/Rome
X-WR-TIMEZONE:Europe/Rome
BEGIN:VEVENT
UID:7695@radiobruno.it
DTSTART;TZID=Europe/Rome:20250927T100000
DTEND;TZID=Europe/Rome:20251102T200000
DTSTAMP:20250922T092553Z
URL:https://www.radiobruno.it/eventi/il-regno-delle-zucche-2/
SUMMARY:Il Regno delle Zucche
DESCRIPTION:La capitale delle zucche è alle porte di Firenze\, a Campi Bis
 enzio.\n\nIl Parco di Villa Montalvo\, a Campi Bisenzio\, si prepara a tra
 sformarsi in uno speciale mondo incantato e ad ospitare\, per 6 weekend co
 nsecutivi dal 27 settembre al 2 novembre. “Il Regno delle Zucche”\, ma
 nifestazione organizzata per il secondo anno con il patrocinio del Comune 
 di Campi Bisenzio.\n\nIl parco offrirà ai visitatori un’esperienza imme
 rsiva in un villaggio che li condurrà alla scoperta di questo delizioso p
 rodotto vegetale\, vero e proprio gioiello della natura\, utilizzato per r
 ealizzare alcune statue artistiche. Testimonial dell’evento è “Lo Zuc
 coso”\, un personaggio di fantasia che diventerà simbolo del Regno dell
 e Zucche. Alcune di queste sculture verranno realizzate direttamente da Ga
 lli\, uno dei più innovativi maestri costruttori del Carnevale di Viaregg
 io.\n\nNon solo opere d’arte fatte di zucche. “Il Regno delle Zucche
 ” sarà anche molto di più e offrirà tante occasioni di svago e divert
 imento alle famiglie. Ogni weekend saranno presenti attrazioni\, esposizio
 ni e attività divertenti per tutte le età in un ambiente autunnale coinv
 olgente che promuove bellezza\, socialità e armonia\, offrendo al tempo s
 tesso più di un’opportunità per trascorrere del tempo insieme e prepar
 arsi a festeggiare Halloween. Si va dal teatro delle rotoballe dove sarann
 o allestiti 4 spettacoli giornalieri ad accesso libero che vedranno protag
 onisti\, giocolieri\, circensi\, bolle di sapone giganti e molto altro. Ci
  saranno poi spazi dedicati all’animazione e baby dance\, oltre al labor
 atorio delle zucche con la guida degli animatori. Sempre all’interno del
  parco sarà inoltre allestita un’area luna park\, un labirinto “zucco
 so”\, un percorso per i carrellini nel quale i più piccoli potranno sfi
 darsi tra di loro e anche una speciale zona dedicata allo street food.\n\n
 “Il Regno delle Zucche” sarà aperto dal 27 Settembre al 2 Novembre og
 ni sabato e domenica dalle 10 alle 20. \n\nPer ulteriori informazioni e pe
 r acquistare i biglietti di ingresso www.ilregnodellezucche.it. Biglietti 
 anche in loco. Per i bambini con biglietto ridotto avranno in omaggio 2 gi
 ri sulle attrazioni del Luna Park. In alternativa\, solo per informazioni\
 , è possibile inviare un messaggio WhatsApp al 331-4417741
ATTACH;FMTTYPE=image/jpeg:https://www.radiobruno.it/wp-content/uploads/202
 5/09/regno-delle-zucche.jpg
CATEGORIES:Palcoscenico,Toscana
LOCATION:Parco Villa di Montalvo\, Via Limite 1\, Campi Bisenzio\, Firenze\
 , Italia
X-APPLE-STRUCTURED-LOCATION;VALUE=URI;X-ADDRESS=Via Limite 1\, Campi Bisenz
 io\, Firenze\, Italia;X-APPLE-RADIUS=100;X-TITLE=Parco Villa di Montalvo:g
 eo:0,0
END:VEVENT
BEGIN:VTIMEZONE
TZID:Europe/Rome
X-LIC-LOCATION:Europe/Rome
BEGIN:DAYLIGHT
DTSTART:20250330T030000
TZOFFSETFROM:+0100
TZOFFSETTO:+0200
TZNAME:CEST
END:DAYLIGHT
BEGIN:STANDARD
DTSTART:20251026T020000
TZOFFSETFROM:+0200
TZOFFSETTO:+0100
TZNAME:CET
END:STANDARD
END:VTIMEZONE
END:VCALENDAR