BEGIN:VCALENDAR
VERSION:2.0
PRODID:-//wp-events-plugin.com//7.2.3.1//EN
TZID:Europe/Rome
X-WR-TIMEZONE:Europe/Rome
BEGIN:VEVENT
UID:7398@radiobruno.it
DTSTART;TZID=Europe/Rome;VALUE=DATE:20250120
DTEND;TZID=Europe/Rome;VALUE=DATE:20250203
DTSTAMP:20250116T155344Z
URL:https://www.radiobruno.it/eventi/la-canzonetta-di-pietrasanta-2025/
SUMMARY:La canzonetta di Pietrasanta 2025
DESCRIPTION:\n\nCon l’esecuzione dei sorteggi che fissano l’ordine di e
 sibizione per la Festa della Canzonetta si è messa ufficialmente in moto 
 tutta la “macchina” del Carnevale di Pietrasanta 2025. Un appuntamento
 \, organizzato questa mattina dall'ufficio tradizioni popolari presso la s
 ede municipale di via Capriglia\, al quale hanno presenziato i rappresenta
 nti delle dieci contrade protagoniste della kermesse cittadina che scatter
 à il 30 gennaio proprio con la “disfida” canora e dialettale\, sul pa
 lco del teatro “Galeotti”.\n\n“Il vernacolo è una forma d'arte ricc
 a di significato e valore – ha sottolineato l’assessore Andrea Cosci 
 – una finestra sulle nostre radici che cerchiamo di preservare e far con
 oscere alle nuove generazioni\, come un patrimonio culturale a pieno titol
 o. Voglio quindi ringraziare tutti i presidenti e i contradaioli che ne so
 no autentici baluardi e far loro un grande in bocca al lupo: sono certo ch
 e\, anche quest'anno\, sapranno regalare alla città uno spettacolo entusi
 asmante”.\n\nLa fatidica estrazione\, gestita dalla funzionaria Maria Pa
 ola Civili\, con Nicola Di Clemente e Guido Moriconi\, è partita dall'ese
 cuzione delle canzoni: per la prima serata (giovedì 30 gennaio\, alle 21)
  Africa Macelli\, La Marina\, Brancagliana\, Pontestrada\, La Lanterna\, P
 ollino Traversagna\, Antichi Feudi\, La Collina\, Strettoia e Il Tiglio/La
  Beca\; la sera successiva (venerdì 31\, sempre alle 21) aprirà la contr
 ada Brancagliana\, seguita da La Marina\, La Lanterna\, Africa Macelli\, L
 a Collina\, Strettoia\, Pontestrada\, Pollino Traversagna\, Il Tiglio/La B
 eca e Antichi Feudi\; nella terza serata (sabato 1° febbraio\, ancora all
 e 21) saliranno sul palco\, nell’ordine\, Strettoia\, Brancagliana\, Afr
 ica Macelli\, Pollino Traversagna\, Pontestrada\, Il Tiglio/La Beca\, La C
 ollina\, La Lanterna\, La Marina e Antichi Feudi\; domenica 2 dalle 16\, i
 nfine\, si esibiranno Africa Macelli\, La Marina\, Brancagliana\, Pollino 
 Traversagna\, La Collina\, Pontestrada\, Il Tiglio/La Beca\, La Lanterna\,
  Antichi Feudi e Strettoia.\n\nNelle stesse quattro serate\, le contrade p
 resenteranno anche le loro scenette in vernacolo: giovedì 30 toccherà a 
 Strettoia\, Pontestrada e Il Tiglio/La Beca\; venerdì 31 sarà la volta d
 i Antichi Feudi\, Africa Macelli\, La Marina e Brancagliana\; sabato 1° f
 ebbraio spazio a La Lanterna\, La Collina e Pollino Traversagna. L'ordine 
 di rappresentazione delle quattro finaliste\, per domenica 2\, sarà deter
 minato in base all'ordine di estrazione della prima fase.\n\nAperta quindi
  la “caccia” alle regine dell’edizione 2024\, Strettoia (detentrice 
 dello Sprocco per la miglior “canzonetta”) e La Marina (che difenderà
  la Scartocciata\, premio alla migliore rappresentazione di teatro dialett
 ale). I biglietti per assistere alla Festa della Canzonetta saranno in ven
 dita dal 20 gennaio 2025 solo al teatro comunale “Galeotti”: 10 euro p
 er sedersi in platea (12 nel giorno della finale) e 8 per la galleria (10 
 nella serata conclusiva).\n
ATTACH;FMTTYPE=image/jpeg:https://www.radiobruno.it/wp-content/uploads/202
 5/01/111.jpg
CATEGORIES:Palcoscenico,Toscana
END:VEVENT
BEGIN:VTIMEZONE
TZID:Europe/Rome
X-LIC-LOCATION:Europe/Rome
BEGIN:STANDARD
DTSTART:20241027T020000
TZOFFSETFROM:+0200
TZOFFSETTO:+0100
TZNAME:CET
END:STANDARD
END:VTIMEZONE
END:VCALENDAR