BEGIN:VCALENDAR
VERSION:2.0
PRODID:-//wp-events-plugin.com//7.2.3.1//EN
TZID:Europe/Rome
X-WR-TIMEZONE:Europe/Rome
BEGIN:VEVENT
UID:7043@radiobruno.it
DTSTART;TZID=Europe/Rome:20240414T151500
DTEND;TZID=Europe/Rome:20240414T190000
DTSTAMP:20240409T132209Z
URL:https://www.radiobruno.it/eventi/oratorio-di-campagna-il-14-aprile-a-c
 hiari/
SUMMARY:Oratorio di Campagna\, il 14 aprile a Chiari
DESCRIPTION:\nCHIARI DA SCOPRIRE. Percorsi culturali in collaborazione con 
 Mino Facchetti.\n\n\nNel mese di aprile andremo a scoprire la storia della
  Compagnia di Sant’Angela e dell’Oratorio di Campagna.\n\n\n\nDOMENICA
  14 APRILE 2024\n\n\nRITROVO alle ore 15.15 presso la sede della Pro Loco 
 Chiari APS.\n\n\n\nCONTRIBUTO INIZIATIVA:\n\n\n\n€ 15/persona comprensiv
 o di tessera iscrizione Pro Loco Chiari APS\n€ 8/persona per chi è già
  tesserato alla Pro Loco Chiari APS\n\n\n\n\nPOSTI LIMITATI CON PRENOTAZIO
 NE OBBLIGATORIA.\n\nIl contributo all’iniziativa dovrà essere versato p
 resso la sede Pro Loco Chiari APS ENTRO SABATO 13 APRILE 2024.15\n\n
ATTACH;FMTTYPE=image/jpeg:https://www.radiobruno.it/wp-content/uploads/202
 4/04/pl_chiaridascoprire_14apr2024_web.jpg
CATEGORIES:Appuntamenti,Brescia,Palcoscenico
END:VEVENT
BEGIN:VTIMEZONE
TZID:Europe/Rome
X-LIC-LOCATION:Europe/Rome
BEGIN:DAYLIGHT
DTSTART:20240331T030000
TZOFFSETFROM:+0100
TZOFFSETTO:+0200
TZNAME:CEST
END:DAYLIGHT
END:VTIMEZONE
END:VCALENDAR