BEGIN:VCALENDAR
VERSION:2.0
PRODID:-//wp-events-plugin.com//7.2.3.1//EN
TZID:Europe/Rome
X-WR-TIMEZONE:Europe/Rome
BEGIN:VEVENT
UID:7397@radiobruno.it
DTSTART;TZID=Europe/Rome;VALUE=DATE:20250119
DTEND;TZID=Europe/Rome;VALUE=DATE:20250120
DTSTAMP:20250116T154645Z
URL:https://www.radiobruno.it/eventi/palio-di-buti-2025/
SUMMARY:Palio di Buti 2025
DESCRIPTION:\n\nPalio di Buti 2025 domenica 19 Gennaio dalla colazione con 
 la trippa butese alla sfilata storica al mattino alla corsa dei cavalli al
  pomeriggio.\nIl Palio di Buti è storia vi ASPETTIAMO!
ATTACH;FMTTYPE=image/jpeg:https://www.radiobruno.it/wp-content/uploads/202
 5/01/buti.jpg
CATEGORIES:Palcoscenico,Toscana
END:VEVENT
BEGIN:VTIMEZONE
TZID:Europe/Rome
X-LIC-LOCATION:Europe/Rome
BEGIN:STANDARD
DTSTART:20241027T020000
TZOFFSETFROM:+0200
TZOFFSETTO:+0100
TZNAME:CET
END:STANDARD
END:VTIMEZONE
END:VCALENDAR