BEGIN:VCALENDAR
VERSION:2.0
PRODID:-//wp-events-plugin.com//7.2.3.1//EN
TZID:Europe/Rome
X-WR-TIMEZONE:Europe/Rome
BEGIN:VEVENT
UID:7545@radiobruno.it
DTSTART;TZID=Europe/Rome:20250607T203000
DTEND;TZID=Europe/Rome:20250607T230000
DTSTAMP:20250603T074545Z
URL:https://www.radiobruno.it/eventi/quando-la-piscina-diventa-teatro/
SUMMARY:Quando la piscina diventa teatro!
DESCRIPTION:Sabato 7 giugno lo spettacolo di nuoto sincronizzato!
ATTACH;FMTTYPE=image/jpeg:https://www.radiobruno.it/wp-content/uploads/202
 5/06/WhatsApp-Image-2025-06-02-at-12.11.38.jpeg
CATEGORIES:Appuntamenti,Brescia,Palcoscenico
END:VEVENT
BEGIN:VTIMEZONE
TZID:Europe/Rome
X-LIC-LOCATION:Europe/Rome
BEGIN:DAYLIGHT
DTSTART:20250330T030000
TZOFFSETFROM:+0100
TZOFFSETTO:+0200
TZNAME:CEST
END:DAYLIGHT
END:VTIMEZONE
END:VCALENDAR