BEGIN:VCALENDAR
VERSION:2.0
PRODID:-//wp-events-plugin.com//7.2.3.1//EN
TZID:Europe/Rome
X-WR-TIMEZONE:Europe/Rome
BEGIN:VEVENT
UID:7587@radiobruno.it
DTSTART;TZID=Europe/Rome:20250801T210000
DTEND;TZID=Europe/Rome:20250801T210000
DTSTAMP:20250626T143853Z
URL:https://www.radiobruno.it/eventi/radio-bruno-ti-regala-the-abba-tribut
 e-alla-versiliana/
SUMMARY:RADIO BRUNO ti regala THE ABBA TRIBUTE alla Versiliana
DESCRIPTION:\n\n\n46° Festival La Versiliana\n1 agosto 2025\, ore 21.30\nT
 eatro La Versiliana\, Marina di Pietrasanta\n\nRADIO BRUNO TI REGALA I BIG
 LIETTI scrivi i tuoi dati e richiedi i tuoi biglietti omaggio alla email :
  marilena.berti59@gmail.com ti risponderemo prima possibile!\n\nDirettamen
 te dal West End di Londra\, MANIA è riconosciuto come il  tributo agli AB
 BA  numero uno al mondo.\n\nUn concerto speciale che celebra la musica deg
 li ABBA in modo rispettoso e coinvolgente\, questa produzione fa rivivere 
 i ricordi di quando gli ABBA dominavano le classifiche.\n\nSono passati pi
 ù di 40 anni da quando gli ABBA hanno vinto l’Eurovision Song Contest\,
  ma la loro musica continua a riempire le nostre vite.\n\nMANIA regala ai 
 fan\, vecchi e nuovi\, una serata indimenticabile da non perdere. Se cerch
 i una scusa per fare festa\, rivivere i bei tempi o semplicemente lasciart
 i intrattenere\, allora MANIA: The ABBA Tribute è lo spettacolo perfetto 
 per te!\n\nTira fuori le tue zeppe\, spolvera i pantaloni a zampa e canta 
 insieme a grandi classici come Mamma Mia\, Voulez-Vous\, Dancing Queen\, T
 he Winner Takes It All\, Super Trouper e molti altri!
ATTACH;FMTTYPE=image/jpeg:https://www.radiobruno.it/wp-content/uploads/202
 5/06/abba.png
CATEGORIES:Palcoscenico,Toscana
END:VEVENT
BEGIN:VTIMEZONE
TZID:Europe/Rome
X-LIC-LOCATION:Europe/Rome
BEGIN:DAYLIGHT
DTSTART:20250330T030000
TZOFFSETFROM:+0100
TZOFFSETTO:+0200
TZNAME:CEST
END:DAYLIGHT
END:VTIMEZONE
END:VCALENDAR