BEGIN:VCALENDAR
VERSION:2.0
PRODID:-//wp-events-plugin.com//7.2.3.1//EN
TZID:Europe/Rome
X-WR-TIMEZONE:Europe/Rome
BEGIN:VEVENT
UID:7417@radiobruno.it
DTSTART;TZID=Europe/Rome:20250808T210000
DTEND;TZID=Europe/Rome:20250808T230000
DTSTAMP:20250213T135942Z
URL:https://www.radiobruno.it/eventi/roberto-vecchioni-torna-live-con-tra-
 il-silenzio-e-il-tuono-tour-a-edolo-l8-agosto/
SUMMARY:Roberto Vecchioni torna live con “Tra il silenzio e il tuono tour
 ”: a Edolo\, l’8 agosto
DESCRIPTION:Dopo il successo della partecipazione alla scorsa edizione del 
 Festival di Sanremo in duetto con Alfa con il brano “Sogna ragazzo sogna
 ”\, Roberto Vecchioni torna live con “Tra il silenzio e il tuono tour
 ”: un grande spettacolo di canti e monologhi\, interpretato da uno dei p
 adri storici della canzone italiana!\n\n 8 Agosto 2025\n Piazzale Foro B
 oario – Edolo\n Biglietti disponibili su Ticketone e Vivaticket\n\nCipi
 esse Organizzazione
ATTACH;FMTTYPE=image/jpeg:https://www.radiobruno.it/wp-content/uploads/202
 5/02/WhatsApp-Image-2025-02-13-at-13.17.24.jpeg
CATEGORIES:Appuntamenti,Brescia,Palcoscenico
END:VEVENT
BEGIN:VTIMEZONE
TZID:Europe/Rome
X-LIC-LOCATION:Europe/Rome
BEGIN:DAYLIGHT
DTSTART:20250330T030000
TZOFFSETFROM:+0100
TZOFFSETTO:+0200
TZNAME:CEST
END:DAYLIGHT
END:VTIMEZONE
END:VCALENDAR