BEGIN:VCALENDAR
VERSION:2.0
PRODID:-//wp-events-plugin.com//7.2.3.1//EN
TZID:Europe/Rome
X-WR-TIMEZONE:Europe/Rome
BEGIN:VEVENT
UID:7593@radiobruno.it
DTSTART;TZID=Europe/Rome;VALUE=DATE:20250830
DTEND;TZID=Europe/Rome;VALUE=DATE:20250831
DTSTAMP:20250825T113104Z
URL:https://www.radiobruno.it/eventi/sabato-30-agosto-il-2concorso-di-spie
 do-prevallese/
SUMMARY:A Prevalle (Bs) Sabato 30 agosto il 2°Concorso di Spiedo Prevalles
 e!
DESCRIPTION:Dopo il successo dell'edizione del 2023 l'Amministrazione Comun
 ale di Prevalle (Bs) organizza il "2°Concorso di Spiedo Prevallese".\n\nU
 na gara rivolta a tutti: privati\, gruppi\, associazioni\, aziende\, risto
 ratori ed amici che avrà il suo culmine con una suggestiva cena lungo il 
 Viale dei Gelsi\, di fronte a Palazzo Morani.\n\nL'appuntamento é per sab
 ato 30 agosto con in palio ricchissimi premi!\n\nUn'occasione per stare in
 sieme\, gustare del buon cibo e partecipare a una sana e gustosa competizi
 one a base del nostro piatto tipico: lo spiedo Prevallese.\n\nCosa aspetti
 \, sei pronto a metterti in gioco?\n\nLe iscrizioni si accettano entro il 
 10 agosto\n\nAl link il regolamento ⬇️⬇️⬇️\nhttps://comune.pre
 valle.bs.it/eventi/3429534/2-concorso-spiedo-prevallese\n\nUn ringraziamen
 to particolare a Meccanica Ponte Chiese e Delio Gallina per aver contribui
 to alla realizzazione dell'evento.
ATTACH;FMTTYPE=image/jpeg:https://www.radiobruno.it/wp-content/uploads/202
 5/06/WhatsApp-Image-2025-06-29-at-20.53.29.jpeg
CATEGORIES:Brescia,Palcoscenico
END:VEVENT
BEGIN:VTIMEZONE
TZID:Europe/Rome
X-LIC-LOCATION:Europe/Rome
BEGIN:DAYLIGHT
DTSTART:20250330T030000
TZOFFSETFROM:+0100
TZOFFSETTO:+0200
TZNAME:CEST
END:DAYLIGHT
END:VTIMEZONE
END:VCALENDAR