BEGIN:VCALENDAR
VERSION:2.0
PRODID:-//wp-events-plugin.com//7.2.3.1//EN
TZID:Europe/Rome
X-WR-TIMEZONE:Europe/Rome
BEGIN:VEVENT
UID:7652@radiobruno.it
DTSTART;TZID=Europe/Rome:20250920T180000
DTEND;TZID=Europe/Rome:20250920T230000
DTSTAMP:20250828T101133Z
URL:https://www.radiobruno.it/eventi/sarah-toscano-in-concerto-a-castel-gu
 elfo-the-style-outlets/
SUMMARY:Sarah Toscano in concerto a Castel Guelfo The Style Outlets
DESCRIPTION:Sarah Toscano a Castel Guelfo The Style Outlets per festeggiare
  il restyling della food court tra free food per tutti e tanto divertiment
 o!\nAppuntamento nel centro il 20 settembre dalle 18:00\n\nCastel Guelfo T
 he Style Outlets è pronto a celebrare la sua food court rinnovata con una
  festa imperdibile\, in cui gusto\, musica e divertimento si combineranno 
 in una serata speciale aperta a tutti.\n\nL’appuntamento è per sabato 2
 0 settembre\, dalle 18:00\, nell’area food che il centro ha ristrutturat
 o negli ultimi mesi\, ampliando l'offerta F&amp\;B con l'arrivo di nuovi p
 unti ristoro e rendendo l’ambiente più accogliente per i visitatori con
  aree verdi e dehors davanti a ogni ristorante.\n\nDurante la serata\, gli
  ospiti del centro potranno vivere un vero e proprio viaggio gastronomico 
 intorno al mondo\, gustando assaggi dei piatti più iconici offerti gratui
 tamente dai punti ristoro: dai nachos messicani di Billy Tacos\, alle chia
 cchiere con pomodoro e burrata di Farinella\, dai succulenti burger cubes 
 di Roadhouse Meatery\, alle fresche poke hawaiane di I Love Poke\, e molti
  altri.\n\nA seguire\, ci sarà l’immancabile taglio della torta\, per f
 esteggiare insieme questo importante traguardo.\n\nPoi\, l'attesa salirà 
 alle stelle! Alle 21:00\, il palco si accenderà per l'attesissimo concert
 o gratuito di Sarah Toscano\, un'opportunità unica per cantare e ballare 
 al ritmo delle hit della vincitrice di Amici 23\, uno dei giovani talenti 
 musicali più promettenti e apprezzati d'Italia. La festa continuerà fino
  alle 23:00 con l'energia contagiosa del DJ Set di Radio Bruno\, che chiud
 erà in bellezza una serata indimenticabile.\n\nNon solo sapori e musica\,
  ci sarà spazio anche per lo shopping\, con l’apertura straordinaria de
 i negozi del centro\, oltre che dei punti ristoro\, fino alle 23:00.
ATTACH;FMTTYPE=image/jpeg:https://www.radiobruno.it/wp-content/uploads/202
 5/08/Locandina-Sarah-Toscano-CG-TSO.jpg
CATEGORIES:Bologna,Eventi Radio Bruno,Palcoscenico
END:VEVENT
BEGIN:VTIMEZONE
TZID:Europe/Rome
X-LIC-LOCATION:Europe/Rome
BEGIN:DAYLIGHT
DTSTART:20250330T030000
TZOFFSETFROM:+0100
TZOFFSETTO:+0200
TZNAME:CEST
END:DAYLIGHT
END:VTIMEZONE
END:VCALENDAR