BEGIN:VCALENDAR
VERSION:2.0
PRODID:-//wp-events-plugin.com//7.2.3.1//EN
TZID:Europe/Rome
X-WR-TIMEZONE:Europe/Rome
BEGIN:VEVENT
UID:7627@radiobruno.it
DTSTART;TZID=Europe/Rome:20250907T210000
DTEND;TZID=Europe/Rome:20250907T234500
DTSTAMP:20250825T120151Z
URL:https://www.radiobruno.it/eventi/scifoni-a-fiesole/
SUMMARY:GIOVANNI SCIFONI A FIESOLE (Fi)
DESCRIPTION:Domenica 7 Settembre 2025 Orario di inizio 21:00\nTeatro Romano
  di Fiesole (Fi)\n\nATTENZIONE! Giovanni Scifoni annuncia lo spostamento d
 el suo spettacolo.\nI biglietti precedentemente acquistati per la data del
  19.07.2025 saranno validi per la nuova data del 07.09.2025.\nPer tutti co
 loro che non potranno partecipare\, sarà possibile richiedere il rimborso
  seguendo la procedura su: https://www.rimborsi-ticketone.it/request.php e
 ntro il 24 luglio 2025.\n\n_______________________________________________
 _______\n\nFRÀ - SAN FRANCESCO LA SUPERSTAR DEL MEDIOEVO\n\ndi e con Giov
 anni Scifoni\nMusiche originali Luciano Di Giandomenico\nStrumenti antichi
  Luciano Di Giandomenico\, Maurizio Picchiò e Stefano Carloncelli\nRegia 
 Francesco Ferdinando Brandi\nUna coproduzione Teatro Carcano - Mismaonda -
  Viola Produzioni\n\nCome si fa a parlare di San Francesco D’Assisi senz
 a essere mostruosamente banali? Come farò a mettere in scena questo spett
 acolo senza che sembri una canzone di Jovanotti? Se chiedo a un ateo antic
 lericale “dimmi un santo che ti piace” lui dirà: Francesco. Perché t
 utti conoscono San Francesco? Perché sono stati scritti decine di migliai
 a ditesti su di lui? Perché è così irresistibile? E perché proprio lui
 ? Non era l’unico a praticare il pauperismo. In quell’epoca era pieno 
 di santi e movimenti eretici che avevano fatto la stessa scelta estrema\, 
 che aveva di speciale questo coatto di periferia piccolo borghese mezzo fr
 ikkettone che lascia tutto per diventare straccione?
ATTACH;FMTTYPE=image/jpeg:https://www.radiobruno.it/wp-content/uploads/202
 5/08/Scifoni2.jpg
CATEGORIES:Palcoscenico,Toscana
END:VEVENT
BEGIN:VTIMEZONE
TZID:Europe/Rome
X-LIC-LOCATION:Europe/Rome
BEGIN:DAYLIGHT
DTSTART:20250330T030000
TZOFFSETFROM:+0100
TZOFFSETTO:+0200
TZNAME:CEST
END:DAYLIGHT
END:VTIMEZONE
END:VCALENDAR