BEGIN:VCALENDAR
VERSION:2.0
PRODID:-//wp-events-plugin.com//7.2.3.1//EN
TZID:Europe/Rome
X-WR-TIMEZONE:Europe/Rome
BEGIN:VEVENT
UID:7623@radiobruno.it
DTSTART;TZID=Europe/Rome:20250808T190000
DTEND;TZID=Europe/Rome:20250811T233000
DTSTAMP:20250804T112509Z
URL:https://www.radiobruno.it/eventi/sta-per-tornare-la-42a-edizione-di-fr
 ontignanoelasuafesta-che-si-terra-dall8-all11-agosto-2025/
SUMMARY:Sta per tornare la 42ª EDIZIONE di #FrontignanoelaSuaFesta\, che s
 i terrà dall’8 all’11 AGOSTO 2025!
DESCRIPTION: Siamo felicissimi di annunciarvi la 42ª EDIZIONE di #Frontign
 anoelaSuaFesta\, che si terrà dall’8 all’11 AGOSTO 2025! \n\nNon vedi
 amo l’ora di festeggiare con voi! \n\n⭐️ RISTORANTE aperto tutte le 
 sere!\n️ Tutte le sere troverete gastronomia locale con:\n Spiedo Bresci
 ano\n Casoncelli di Barbariga\n E tanto altro ancora \n\n Programma musica
 le:\n\n VENERDÌ 8: si parte con l’orchestra MARCO E IL CLAN\n Al bar: C
 ircus Beatclub DJ Set\n\n SABATO 9: balliamo con l’orchestra ANNA MARIA 
 ALLEGRETTI\n Al bar: Karaoke con Miky e Alberto\n\n DOMENICA 10: sul palco
  l’orchestra ROBERTO POLISANO\n Al bar: AperiPirlo DJ Set\n\n LUNEDÌ 11
 : chiudiamo in bellezza con l’orchestra FRANCESCA MAZZUCCATO\n Al bar: R
 adio Bruno DJ Set con Andrea Bonzio\n\n NOVITÀ 2025:\n\n⭐️ NUOVA PIST
 A DA BALLO IN ACCIAIO\n⭐️ Nuova area food SELF-SERVICE\n⭐️ Ampio p
 archeggio\n\nVi aspettiamo numerosi all’Oratorio di Frontignano di Barba
 riga (BS) per vivere insieme quattro serate di musica\, buon cibo e allegr
 ia!
ATTACH;FMTTYPE=image/jpeg:https://www.radiobruno.it/wp-content/uploads/202
 5/08/WhatsApp-Image-2025-08-04-at-08.33.10-1.jpeg
CATEGORIES:Appuntamenti,Brescia,Palcoscenico
END:VEVENT
BEGIN:VTIMEZONE
TZID:Europe/Rome
X-LIC-LOCATION:Europe/Rome
BEGIN:DAYLIGHT
DTSTART:20250330T030000
TZOFFSETFROM:+0100
TZOFFSETTO:+0200
TZNAME:CEST
END:DAYLIGHT
END:VTIMEZONE
END:VCALENDAR