BEGIN:VCALENDAR
VERSION:2.0
PRODID:-//wp-events-plugin.com//7.2.3.1//EN
TZID:Europe/Rome
X-WR-TIMEZONE:Europe/Rome
BEGIN:VEVENT
UID:7641@radiobruno.it
DTSTART;TZID=Europe/Rome:20250830T210000
DTEND;TZID=Europe/Rome:20250913T234500
DTSTAMP:20250825T152132Z
URL:https://www.radiobruno.it/eventi/summer-knights-pisa/
SUMMARY:Summer Knights Pisa
DESCRIPTION:Piazza dei Cavalieri\nPisa\nannunciato il cartellone completo d
 el festival\nIn Piazza dei Cavalieri anche i Level 42 per l’unica data i
 taliana\nFRANCESCO DE GREGORI\nMARCO MASINI\nFIORELLA MANNOIA\nLEVEL 42\nV
 INCENZO SALEMME\nI GATTI MÉZZI\nCRISTIANO DE ANDRÈ\nASCO\nTEENAGE DREAM\
 nTorna anche quest’anno il Summer Knights Pisa\, il festival di spettaco
 lo e cultura promosso dal Comune di Pisa Assessorato alla Cultura\, in col
 laborazione con Pisamo e organizzato dalla LEG Live Emotion Group.\n\nDa f
 ine agosto\, la suggestiva Piazza dei Cavalieri si trasformerà ancora una
  volta in un grande palcoscenico a cielo aperto\, pronto ad accogliere art
 isti di grande prestigio nazionale e internazionale.\n\nTra i protagonisti
  dell’edizione 2025\, spicca l’attesissimo concerto dei Level 42\, ico
 na mondiale del pop e funk britannico\, che saliranno sul palco pisano per
  la loro unica data italiana: un evento straordinario che arricchisce ulte
 riormente il valore culturale e artistico della rassegna.\n\nIl calendario
  completo degli appuntamenti conferma l'identità del festival come punto 
 di riferimento nel panorama degli eventi estivi italiani: una rassegna ecl
 ettica e di qualità\, capace di attrarre pubblici diversi e di valorizzar
 e le eccellenze del territorio.\n\nCome già dichiarato nel primo annuncio
  di fine maggio\, i soci fondatori di LEG Live Emotion Group – Sandro Gi
 acomelli\, Tania Ferri ed Elisabetta De Luca – sottolineano:\n\n«Il Sum
 mer Knights è per noi un progetto importante e speciale: quando lo abbiam
 o ideato\, lo abbiamo immaginato non solo come un contenitore di eventi di
  entertainment\, ma come un vero e proprio volano culturale e turistico\, 
 capace di esprimere le potenzialità del territorio. Un’opportunità per
  i cittadini e i visitatori di vivere un’esperienza artistica di alto li
 vello in una delle piazze più affascinanti d’Italia\, e al tempo stesso
  un’occasione per posizionare Pisa come città in grado di ospitare even
 ti di caratura internazionale. Ancora una volta\, grazie alla preziosa sin
 ergia con il Comune di Pisa e Pisamo\, portiamo sul palco nomi di grande r
 ichiamo e offriamo al pubblico un programma ricco e coinvolgente»\n\nIl S
 ummer Knights Pisa si conferma così non solo un appuntamento imperdibile 
 per gli amanti della musica e dello spettacolo\, ma anche un’importante 
 leva di valorizzazione culturale\, economica e turistica per l’intera ci
 ttà.\n\nGia’ attive su Ticketone le prevendite per tutti gli spettacoli
 .\n\nLa data del 6 settembre Level 42: in prevendita anche su Ticketmaster
  e Vivaticket\nLa data dell’11 settembre De Andre’: in prevendita anch
 e su Ticketmaster\nLa data del 12 settembre Asco: in prevendita anche su T
 icketmaster e Ticketnation\nLa data del 13 settembre Teenage Dream: in pre
 vendita anche su Ticketsms e Ticketnation\n\nInizio spettacoli 21.00\n\nEv
 ento 12 settembre Asco: apertura porte Early Entry 18.30\, apertura porte 
 Posto Unico ore 19.00. Possibilità di acquisto biglietto Vip Pack compren
 sivo di Early Entry\, meet&amp\;greet con artista\, pass laminato.\n\nEven
 to del 13 settembre Teenage Dream: apertura porte ore 19.30\n\nRADIO BRUNO
  radio mediapartner\n\nMASTERTENT technical partner\n\nCircuito Prevendite
 : Ticketone - Tutte le informazioni su www.legsrl.net - INFOLINE – 39243
 08616\nIL CALENDARIO\n30 agosto FRANCESCO DE GREGORI\n3 settembre MARCO MA
 SINI\n4 settembre FIORELLA MANNOIA\n6 settembre LEVEL 42\n7 settembre I GA
 TTI MÉZZI\n10 settembre VINCENZO SALEMME\n11 settembre CRISTIANO DE ANDR
 È\n12 settembre ASCO\n13 settembre TEENAGE DREAM
ATTACH;FMTTYPE=image/jpeg:https://www.radiobruno.it/wp-content/uploads/202
 5/08/pisa-Summer-knights-2025.jpg
CATEGORIES:Eventi Radio Bruno,Palcoscenico,Toscana
LOCATION:Piazza dei Cavalieri\, Piazza dei Cavalieri\, Pisa\, Italia
X-APPLE-STRUCTURED-LOCATION;VALUE=URI;X-ADDRESS=Piazza dei Cavalieri\, Pisa
 \, Italia;X-APPLE-RADIUS=100;X-TITLE=Piazza dei Cavalieri:geo:0,0
END:VEVENT
BEGIN:VTIMEZONE
TZID:Europe/Rome
X-LIC-LOCATION:Europe/Rome
BEGIN:DAYLIGHT
DTSTART:20250330T030000
TZOFFSETFROM:+0100
TZOFFSETTO:+0200
TZNAME:CEST
END:DAYLIGHT
END:VTIMEZONE
END:VCALENDAR