BEGIN:VCALENDAR
VERSION:2.0
PRODID:-//wp-events-plugin.com//7.2.3.1//EN
TZID:Europe/Rome
X-WR-TIMEZONE:Europe/Rome
BEGIN:VEVENT
UID:7888@radiobruno.it
DTSTART;TZID=Europe/Rome;VALUE=DATE:20260424
DTEND;TZID=Europe/Rome;VALUE=DATE:20260511
DTSTAMP:20260420T111112Z
URL:https://www.radiobruno.it/eventi/torna-la-festa-de-j-oof-cot-dal-24-ap
 rile-al-10-maggi/
SUMMARY:Torna la Fèsta dè j òof còt! Dal 24 aprile al 10 maggi
DESCRIPTION: Dal 24 aprile al 10 maggio\n Piazza Caprioli – Bosco Ex Pa
 rmigiano\, Gerre de’ Caprioli (Cremona)\nDa quasi 40 anni questa festa 
 è sinonimo di tradizione\, sorrisi e ottimo cibo \nUn appuntamento speci
 ale reso possibile grazie all’impegno di tanti volontari che\, con passi
 one\, continuano a unire persone e comunità \n Il bello? Partecipando f
 ai anche del bene:\nil ricavato sostiene la L.I.L.T. – sezione di Cremo
 na.\n Buona cucina\n Solidarietà\n Atmosfera di festa\nTi aspettiamo p
 er condividere insieme momenti semplici ma davvero preziosi!
ATTACH;FMTTYPE=image/jpeg:https://www.radiobruno.it/wp-content/uploads/202
 6/04/WhatsApp-Image-2026-04-18-at-19.21.12.jpeg
CATEGORIES:Appuntamenti,Brescia,Cremona,Palcoscenico
END:VEVENT
BEGIN:VTIMEZONE
TZID:Europe/Rome
X-LIC-LOCATION:Europe/Rome
BEGIN:DAYLIGHT
DTSTART:20260329T030000
TZOFFSETFROM:+0100
TZOFFSETTO:+0200
TZNAME:CEST
END:DAYLIGHT
END:VTIMEZONE
END:VCALENDAR