BEGIN:VCALENDAR
VERSION:2.0
PRODID:-//wp-events-plugin.com//7.2.3.1//EN
TZID:Europe/Rome
X-WR-TIMEZONE:Europe/Rome
BEGIN:VEVENT
UID:7886@radiobruno.it
DTSTART;TZID=Europe/Rome;VALUE=DATE:20260422
DTEND;TZID=Europe/Rome;VALUE=DATE:20260427
DTSTAMP:20260420T105710Z
URL:https://www.radiobruno.it/eventi/torna-la-sagra-del-loertis-a-castel-m
 ella/
SUMMARY:Torna la Sagra del Loertis a Castel Mella!
DESCRIPTION:Dal 22 al 26 aprile\, Piazza dell’Unità e il centro storico 
 di Castel Mella si animano con uno degli appuntamenti più attesi: la Sag
 ra del Loertis! \n Protagonista assoluto il gusto della tradizione\, con
  lo stand gastronomico aperto:\n• tutte le sere\n• sabato e domenica a
 nche a pranzo\n Ci saremo anche noi di Radio Bruno per accompagnarvi co
 n musica\, energia e tanto divertimento!\nUn’occasione perfetta per ritr
 ovarsi\, assaporare i piatti tipici e vivere momenti di convivialità nel 
 cuore del paese. \n Ti aspettiamo a Castel Mella per cinque giorni di fe
 sta\, sapori e tradizione!
ATTACH;FMTTYPE=image/jpeg:https://www.radiobruno.it/wp-content/uploads/202
 6/04/WhatsApp-Image-2026-04-18-at-17.21.07.jpeg
CATEGORIES:Appuntamenti,Brescia,Palcoscenico
END:VEVENT
BEGIN:VTIMEZONE
TZID:Europe/Rome
X-LIC-LOCATION:Europe/Rome
BEGIN:DAYLIGHT
DTSTART:20260329T030000
TZOFFSETFROM:+0100
TZOFFSETTO:+0200
TZNAME:CEST
END:DAYLIGHT
END:VTIMEZONE
END:VCALENDAR