BEGIN:VCALENDAR
VERSION:2.0
PRODID:-//wp-events-plugin.com//7.2.3.1//EN
TZID:Europe/Rome
X-WR-TIMEZONE:Europe/Rome
BEGIN:VEVENT
UID:7845@radiobruno.it
DTSTART;TZID=Europe/Rome:20250927T093000
DTEND;TZID=Europe/Rome:20260607T190000
DTSTAMP:20260303T114841Z
URL:https://www.radiobruno.it/eventi/toulouse-lautrec-un-viaggio-nella-par
 igi-della-belle-epoque/
SUMMARY:Toulouse-Lautrec\, un viaggio nella Parigi della Belle Époque
DESCRIPTION:Parigi\, fine Ottocento. È l’epoca della spensieratezza e de
 l progresso\, dell’arte che invade i boulevard\, dei caffè frequentati 
 da pittori\, scrittori e ballerine\, delle prime luci elettriche e della n
 ascita della società di massa.\nIn questo fermento culturale nasce e si a
 fferma Henri de Toulouse-Lautrec (1864–1901)\, figura unica nel panorama
  artistico europeo. Pittore\, illustratore e innovatore grafico\, Lautrec 
 ha saputo catturare con sguardo ironico e profondo la vita notturna e lo s
 pirito bohémien della Parigi di Montmartre. Il Museo degli Innocenti ospi
 ta una nuova mostra temporanea approfondendo la sua figura. La mostra è p
 rorogata fino al 7 giugno.\n\nInfo: https://www.museodeglinnocenti.it/most
 ra/toulouse-lautrec-un-viaggio-nella-parigi-della-belle-epoque/
ATTACH;FMTTYPE=image/jpeg:https://www.radiobruno.it/wp-content/uploads/202
 6/03/Toulouse-Lautrec-mostra.jpg
CATEGORIES:Eventi Radio Bruno,Palcoscenico,Toscana
LOCATION:Museo degli Innocenti\, Piazza della Santissima Annunziata\, 13\, 
 Firenze\, Italia
X-APPLE-STRUCTURED-LOCATION;VALUE=URI;X-ADDRESS=Piazza della Santissima Ann
 unziata\, 13\, Firenze\, Italia;X-APPLE-RADIUS=100;X-TITLE=Museo degli Inn
 ocenti:geo:0,0
END:VEVENT
BEGIN:VTIMEZONE
TZID:Europe/Rome
X-LIC-LOCATION:Europe/Rome
BEGIN:DAYLIGHT
DTSTART:20250330T030000
TZOFFSETFROM:+0100
TZOFFSETTO:+0200
TZNAME:CEST
END:DAYLIGHT
BEGIN:STANDARD
DTSTART:20251026T020000
TZOFFSETFROM:+0200
TZOFFSETTO:+0100
TZNAME:CET
END:STANDARD
BEGIN:DAYLIGHT
DTSTART:20260329T030000
TZOFFSETFROM:+0100
TZOFFSETTO:+0200
TZNAME:CEST
END:DAYLIGHT
END:VTIMEZONE
END:VCALENDAR