BEGIN:VCALENDAR
VERSION:2.0
PRODID:-//wp-events-plugin.com//7.2.3.1//EN
TZID:Europe/Rome
X-WR-TIMEZONE:Europe/Rome
BEGIN:VEVENT
UID:7422@radiobruno.it
DTSTART;TZID=Europe/Rome:20250807T201500
DTEND;TZID=Europe/Rome:20250807T234500
DTSTAMP:20250220T094817Z
URL:https://www.radiobruno.it/eventi/vallecamonica-summer-music-2025-crist
 iano-de-andre-in-concerto-a-edolo-7-agosto/
SUMMARY:Vallecamonica Summer Music 2025: Cristiano De André in concerto a 
 Edolo – 7 agosto
DESCRIPTION:Nel 2025 CRISTIANO DE ANDRÉ è in concerto in tutta Italia con
  “DE ANDRÉ CANTA DE ANDRÉ BEST OF TOUR TEATRALE”\, un omaggio al pad
 re Fabrizio e alle sue canzoni impresse nella memoria collettiva e ancora 
 estremamente attuali.\nIl progetto “DE ANDRÉ CANTA DE ANDRÉ” si arr
 icchisce così di un nuovo tassello\, dopo il successo dei quattro album 
 “De André canta De André – Vol. 1” (2009)\, “De André canta De 
 André – Vol. 2” (2010)\, “De André canta De André – Vol. 3” (
 2017) e “De André canta De André – Storia di un impiegato” (2023)
  e dopo vari tour sold out dedicati ognuno a una parte del repertorio di
  Fabrizio.\n\nCon “DE ANDRÉ CANTA DE ANDRÉ”\, Cristiano De André\, 
 unico vero erede del patrimonio musicale deandreiano\, porterà sul palco 
 il meglio del repertorio finora affrontato\, accompagnato dagli inseparab
 ili musicisti Osvaldo di Dio alle chitarre e Davide Pezzin al basso. A
 lle tastiere torna Luciano Luisi\, che arrangiò i primi due volumi\, e a
 lla batteria arriva Ivano Zanotti.\nCristiano stesso\, non solo cantautor
 e ma abile polistrumentista\, suonerà la chitarra acustica e classica\, 
 il bouzouki\, il pianoforte e il violino\, accompagnando lo spettatore in 
 un percorso che affronta la grande opera di Fabrizio.
ATTACH;FMTTYPE=image/jpeg:https://www.radiobruno.it/wp-content/uploads/202
 5/02/481146188_1205490234910519_6721172609393127725_n.jpg
CATEGORIES:Appuntamenti,Brescia,Palcoscenico
END:VEVENT
BEGIN:VTIMEZONE
TZID:Europe/Rome
X-LIC-LOCATION:Europe/Rome
BEGIN:DAYLIGHT
DTSTART:20250330T030000
TZOFFSETFROM:+0100
TZOFFSETTO:+0200
TZNAME:CEST
END:DAYLIGHT
END:VTIMEZONE
END:VCALENDAR