BEGIN:VCALENDAR
VERSION:2.0
PRODID:-//wp-events-plugin.com//7.2.3.1//EN
TZID:Europe/Rome
X-WR-TIMEZONE:Europe/Rome
BEGIN:VEVENT
UID:7046@radiobruno.it
DTSTART;TZID=Europe/Rome:20240413T210000
DTEND;TZID=Europe/Rome:20240413T233000
DTSTAMP:20240411T074926Z
URL:https://www.radiobruno.it/eventi/vinci-con-radio-bruno-i-biglietti-per
 -katia-follesa-e-angelo-pisani/
SUMMARY:Vinci con Radio Bruno i biglietti per Katia Follesa e Angelo Pisani
DESCRIPTION:SABATO 13 APRILE AL TEATRO MODERNO DI GROSSETO\nKATIA FOLLESA E
  ANGELO PISANI IN TI POSSO SPIEGARE!\nVinci i biglietti con Radio Bruno ch
 iamaci al 0571479483 e richiedi i tuoi pass!\nAlla fine questo matrimonio 
 si farà o no? Chi lo sa!\nAnche in questo nuovo spettacolo\, Angelo e Kat
 ia parleranno della vita di coppia\, ma questa volta\, a differenza dello 
 spettacolo precedente\, ai veri e propri duelli verbali si alterneranno/so
 stituiranno degli sketchs comici in cui i due ci porteranno in casa loro e
  mostreranno le dinamiche uomo donna nella convivenza\, quella in cui lei 
 chiede a lui di scendere a buttare la spazzatura non appena si è in filat
 o la tuta e sta per andare a letto o dove lui rimanda ogni incombenza a su
 on di “lascia lo faccio dopo”.\n\nCosì facendo Katia e Angelo raccont
 eranno un’altra porzione della loro vita insieme\, sempre all’insegna 
 di uno scontro divertente\, senza dimenticarsi di coinvolgere il pubblico 
 che\, anche questa volta\, sarà chiamato a dire la sua e a schierarsi a f
 avore dell’uno o dell’altro.\n\nUn’ulteriore occasione per dimostrar
 e come la vita di ognuno nella convivenza\, si assomigli un po’ tutta. E
  questo è il bello. Facciamoci una risata collettiva e non pensiamoci pi
 ù!
ATTACH;FMTTYPE=image/jpeg:https://www.radiobruno.it/wp-content/uploads/202
 4/04/Teatro.it-katia-follesa-angelo-pisani-ti-posso-spiegare-date-bigliett
 i-man.jpg
CATEGORIES:Eventi Radio Bruno,Palcoscenico,Toscana
LOCATION:TEATRO MODERNO GROSSETO\, VIA TRIPOLI 33\, GROSSETO\, Italia
X-APPLE-STRUCTURED-LOCATION;VALUE=URI;X-ADDRESS=VIA TRIPOLI 33\, GROSSETO\,
  Italia;X-APPLE-RADIUS=100;X-TITLE=TEATRO MODERNO GROSSETO:geo:0,0
END:VEVENT
BEGIN:VTIMEZONE
TZID:Europe/Rome
X-LIC-LOCATION:Europe/Rome
BEGIN:DAYLIGHT
DTSTART:20240331T030000
TZOFFSETFROM:+0100
TZOFFSETTO:+0200
TZNAME:CEST
END:DAYLIGHT
END:VTIMEZONE
END:VCALENDAR